BEGIN:VCALENDAR
VERSION:2.0
PRODID:https://www.kufer.de/kuferweb / DE
METHOD:PUBLISH
CALSCALE:GREGORIAN
X-WR-TIMEZONE:Europe/Berlin
BEGIN:VTIMEZONE
TZID:Europe/Berlin
X-LIC-LOCATION:Europe/Berlin
BEGIN:DAYLIGHT
TZOFFSETFROM:+0100
TZOFFSETTO:+0200
TZNAME:CEST
DTSTART:19700329T020000
RRULE:FREQ=YEARLY;INTERVAL=1;BYDAY=-1SU;BYMONTH=3
END:DAYLIGHT
BEGIN:STANDARD
TZOFFSETFROM:+0200
TZOFFSETTO:+0100
TZNAME:CET
DTSTART:19701025T030000
RRULE:FREQ=YEARLY;INTERVAL=1;BYDAY=-1SU;BYMONTH=10
END:STANDARD
END:VTIMEZONE
BEGIN:VEVENT
DTSTAMP:20260422T150710
DTSTART;TZID=Europe/Berlin:20260225T200000
DTEND;TZID=Europe/Berlin:20260225T213000
UID:261S425-20260225T200000@VHSLINDAU
SUMMARY:Deutsch als Fremdsprache – Mittelstufe (B2.2) (261S425) 
LOCATION:Staatliche Berufsschule, Reutiner Str. 10, Raum BS 009, Reutiner Str. 10, 88131 Lindau
END:VEVENT
BEGIN:VEVENT
DTSTAMP:20260422T150710
DTSTART;TZID=Europe/Berlin:20260304T200000
DTEND;TZID=Europe/Berlin:20260304T213000
UID:261S425-20260304T200000@VHSLINDAU
SUMMARY:Deutsch als Fremdsprache – Mittelstufe (B2.2) (261S425) 
LOCATION:Staatliche Berufsschule, Reutiner Str. 10, Raum BS 009, Reutiner Str. 10, 88131 Lindau
END:VEVENT
BEGIN:VEVENT
DTSTAMP:20260422T150710
DTSTART;TZID=Europe/Berlin:20260311T200000
DTEND;TZID=Europe/Berlin:20260311T213000
UID:261S425-20260311T200000@VHSLINDAU
SUMMARY:Deutsch als Fremdsprache – Mittelstufe (B2.2) (261S425) 
LOCATION:Staatliche Berufsschule, Reutiner Str. 10, Raum BS 009, Reutiner Str. 10, 88131 Lindau
END:VEVENT
BEGIN:VEVENT
DTSTAMP:20260422T150710
DTSTART;TZID=Europe/Berlin:20260318T200000
DTEND;TZID=Europe/Berlin:20260318T213000
UID:261S425-20260318T200000@VHSLINDAU
SUMMARY:Deutsch als Fremdsprache – Mittelstufe (B2.2) (261S425) 
LOCATION:Staatliche Berufsschule, Reutiner Str. 10, Raum BS 009, Reutiner Str. 10, 88131 Lindau
END:VEVENT
BEGIN:VEVENT
DTSTAMP:20260422T150710
DTSTART;TZID=Europe/Berlin:20260325T200000
DTEND;TZID=Europe/Berlin:20260325T213000
UID:261S425-20260325T200000@VHSLINDAU
SUMMARY:Deutsch als Fremdsprache – Mittelstufe (B2.2) (261S425) 
LOCATION:Staatliche Berufsschule, Reutiner Str. 10, Raum BS 009, Reutiner Str. 10, 88131 Lindau
END:VEVENT
BEGIN:VEVENT
DTSTAMP:20260422T150710
DTSTART;TZID=Europe/Berlin:20260415T200000
DTEND;TZID=Europe/Berlin:20260415T213000
UID:261S425-20260415T200000@VHSLINDAU
SUMMARY:Deutsch als Fremdsprache – Mittelstufe (B2.2) (261S425) 
LOCATION:Staatliche Berufsschule, Reutiner Str. 10, Raum BS 009, Reutiner Str. 10, 88131 Lindau
END:VEVENT
BEGIN:VEVENT
DTSTAMP:20260422T150710
DTSTART;TZID=Europe/Berlin:20260422T200000
DTEND;TZID=Europe/Berlin:20260422T213000
UID:261S425-20260422T200000@VHSLINDAU
SUMMARY:Deutsch als Fremdsprache – Mittelstufe (B2.2) (261S425) 
LOCATION:Staatliche Berufsschule, Reutiner Str. 10, Raum BS 009, Reutiner Str. 10, 88131 Lindau
END:VEVENT
BEGIN:VEVENT
DTSTAMP:20260422T150710
DTSTART;TZID=Europe/Berlin:20260429T200000
DTEND;TZID=Europe/Berlin:20260429T213000
UID:261S425-20260429T200000@VHSLINDAU
SUMMARY:Deutsch als Fremdsprache – Mittelstufe (B2.2) (261S425) 
LOCATION:Staatliche Berufsschule, Reutiner Str. 10, Raum BS 009, Reutiner Str. 10, 88131 Lindau
END:VEVENT
BEGIN:VEVENT
DTSTAMP:20260422T150710
DTSTART;TZID=Europe/Berlin:20260506T200000
DTEND;TZID=Europe/Berlin:20260506T213000
UID:261S425-20260506T200000@VHSLINDAU
SUMMARY:Deutsch als Fremdsprache – Mittelstufe (B2.2) (261S425) 
LOCATION:Staatliche Berufsschule, Reutiner Str. 10, Raum BS 009, Reutiner Str. 10, 88131 Lindau
END:VEVENT
BEGIN:VEVENT
DTSTAMP:20260422T150710
DTSTART;TZID=Europe/Berlin:20260513T200000
DTEND;TZID=Europe/Berlin:20260513T213000
UID:261S425-20260513T200000@VHSLINDAU
SUMMARY:Deutsch als Fremdsprache – Mittelstufe (B2.2) (261S425) 
LOCATION:Staatliche Berufsschule, Reutiner Str. 10, Raum BS 009, Reutiner Str. 10, 88131 Lindau
END:VEVENT
BEGIN:VEVENT
DTSTAMP:20260422T150710
DTSTART;TZID=Europe/Berlin:20260520T200000
DTEND;TZID=Europe/Berlin:20260520T213000
UID:261S425-20260520T200000@VHSLINDAU
SUMMARY:Deutsch als Fremdsprache – Mittelstufe (B2.2) (261S425) 
LOCATION:Staatliche Berufsschule, Reutiner Str. 10, Raum BS 009, Reutiner Str. 10, 88131 Lindau
END:VEVENT
END:VCALENDAR