BEGIN:VCALENDAR
VERSION:2.0
PRODID:https://www.kufer.de/kuferweb / DE
METHOD:PUBLISH
CALSCALE:GREGORIAN
X-WR-TIMEZONE:Europe/Berlin
BEGIN:VTIMEZONE
TZID:Europe/Berlin
X-LIC-LOCATION:Europe/Berlin
BEGIN:DAYLIGHT
TZOFFSETFROM:+0100
TZOFFSETTO:+0200
TZNAME:CEST
DTSTART:19700329T020000
RRULE:FREQ=YEARLY;INTERVAL=1;BYDAY=-1SU;BYMONTH=3
END:DAYLIGHT
BEGIN:STANDARD
TZOFFSETFROM:+0200
TZOFFSETTO:+0100
TZNAME:CET
DTSTART:19701025T030000
RRULE:FREQ=YEARLY;INTERVAL=1;BYDAY=-1SU;BYMONTH=10
END:STANDARD
END:VTIMEZONE
BEGIN:VEVENT
DTSTAMP:20260422T150710
DTSTART;TZID=Europe/Berlin:20260209T200500
DTEND;TZID=Europe/Berlin:20260209T213500
UID:261S420-20260209T200500@VHSLINDAU
SUMMARY:Deutsch als Fremdsprache (B1) (261S420) 
LOCATION:vhs-Gebäude, Uferweg 7, Seminarraum 4, Uferweg 7, 88131 Lindau
END:VEVENT
BEGIN:VEVENT
DTSTAMP:20260422T150710
DTSTART;TZID=Europe/Berlin:20260223T200500
DTEND;TZID=Europe/Berlin:20260223T213500
UID:261S420-20260223T200500@VHSLINDAU
SUMMARY:Deutsch als Fremdsprache (B1) (261S420) 
LOCATION:vhs-Gebäude, Uferweg 7, Seminarraum 4, Uferweg 7, 88131 Lindau
END:VEVENT
BEGIN:VEVENT
DTSTAMP:20260422T150710
DTSTART;TZID=Europe/Berlin:20260302T200500
DTEND;TZID=Europe/Berlin:20260302T213500
UID:261S420-20260302T200500@VHSLINDAU
SUMMARY:Deutsch als Fremdsprache (B1) (261S420) 
LOCATION:vhs-Gebäude, Uferweg 7, Seminarraum 4, Uferweg 7, 88131 Lindau
END:VEVENT
BEGIN:VEVENT
DTSTAMP:20260422T150710
DTSTART;TZID=Europe/Berlin:20260316T200500
DTEND;TZID=Europe/Berlin:20260316T213500
UID:261S420-20260316T200500@VHSLINDAU
SUMMARY:Deutsch als Fremdsprache (B1) (261S420) 
LOCATION:vhs-Gebäude, Uferweg 7, Seminarraum 4, Uferweg 7, 88131 Lindau
END:VEVENT
BEGIN:VEVENT
DTSTAMP:20260422T150710
DTSTART;TZID=Europe/Berlin:20260323T200500
DTEND;TZID=Europe/Berlin:20260323T213500
UID:261S420-20260323T200500@VHSLINDAU
SUMMARY:Deutsch als Fremdsprache (B1) (261S420) 
LOCATION:vhs-Gebäude, Uferweg 7, Seminarraum 4, Uferweg 7, 88131 Lindau
END:VEVENT
BEGIN:VEVENT
DTSTAMP:20260422T150710
DTSTART;TZID=Europe/Berlin:20260413T200500
DTEND;TZID=Europe/Berlin:20260413T213500
UID:261S420-20260413T200500@VHSLINDAU
SUMMARY:Deutsch als Fremdsprache (B1) (261S420) 
LOCATION:vhs-Gebäude, Uferweg 7, Seminarraum 4, Uferweg 7, 88131 Lindau
END:VEVENT
BEGIN:VEVENT
DTSTAMP:20260422T150710
DTSTART;TZID=Europe/Berlin:20260420T200500
DTEND;TZID=Europe/Berlin:20260420T213500
UID:261S420-20260420T200500@VHSLINDAU
SUMMARY:Deutsch als Fremdsprache (B1) (261S420) 
LOCATION:vhs-Gebäude, Uferweg 7, Seminarraum 4, Uferweg 7, 88131 Lindau
END:VEVENT
BEGIN:VEVENT
DTSTAMP:20260422T150710
DTSTART;TZID=Europe/Berlin:20260427T200500
DTEND;TZID=Europe/Berlin:20260427T213500
UID:261S420-20260427T200500@VHSLINDAU
SUMMARY:Deutsch als Fremdsprache (B1) (261S420) 
LOCATION:vhs-Gebäude, Uferweg 7, Seminarraum 4, Uferweg 7, 88131 Lindau
END:VEVENT
BEGIN:VEVENT
DTSTAMP:20260422T150710
DTSTART;TZID=Europe/Berlin:20260504T200500
DTEND;TZID=Europe/Berlin:20260504T213500
UID:261S420-20260504T200500@VHSLINDAU
SUMMARY:Deutsch als Fremdsprache (B1) (261S420) 
LOCATION:vhs-Gebäude, Uferweg 7, Seminarraum 4, Uferweg 7, 88131 Lindau
END:VEVENT
BEGIN:VEVENT
DTSTAMP:20260422T150710
DTSTART;TZID=Europe/Berlin:20260511T200500
DTEND;TZID=Europe/Berlin:20260511T213500
UID:261S420-20260511T200500@VHSLINDAU
SUMMARY:Deutsch als Fremdsprache (B1) (261S420) 
LOCATION:vhs-Gebäude, Uferweg 7, Seminarraum 4, Uferweg 7, 88131 Lindau
END:VEVENT
END:VCALENDAR