BEGIN:VCALENDAR
VERSION:2.0
PRODID:https://www.kufer.de/kuferweb / DE
METHOD:PUBLISH
CALSCALE:GREGORIAN
X-WR-TIMEZONE:Europe/Berlin
BEGIN:VTIMEZONE
TZID:Europe/Berlin
X-LIC-LOCATION:Europe/Berlin
BEGIN:DAYLIGHT
TZOFFSETFROM:+0100
TZOFFSETTO:+0200
TZNAME:CEST
DTSTART:19700329T020000
RRULE:FREQ=YEARLY;INTERVAL=1;BYDAY=-1SU;BYMONTH=3
END:DAYLIGHT
BEGIN:STANDARD
TZOFFSETFROM:+0200
TZOFFSETTO:+0100
TZNAME:CET
DTSTART:19701025T030000
RRULE:FREQ=YEARLY;INTERVAL=1;BYDAY=-1SU;BYMONTH=10
END:STANDARD
END:VTIMEZONE
BEGIN:VEVENT
DTSTAMP:20260422T162056
DTSTART;TZID=Europe/Berlin:20260225T181500
DTEND;TZID=Europe/Berlin:20260225T194500
UID:261S401-20260225T181500@VHSLINDAU
SUMMARY:Deutsch als Fremdsprache – Grundstufe (A1.2) (261S401) 
LOCATION:Staatliche Berufsschule, Reutiner Str. 10, Raum BS 009, Reutiner Str. 10, 88131 Lindau
END:VEVENT
BEGIN:VEVENT
DTSTAMP:20260422T162056
DTSTART;TZID=Europe/Berlin:20260304T181500
DTEND;TZID=Europe/Berlin:20260304T194500
UID:261S401-20260304T181500@VHSLINDAU
SUMMARY:Deutsch als Fremdsprache – Grundstufe (A1.2) (261S401) 
LOCATION:Staatliche Berufsschule, Reutiner Str. 10, Raum BS 009, Reutiner Str. 10, 88131 Lindau
END:VEVENT
BEGIN:VEVENT
DTSTAMP:20260422T162056
DTSTART;TZID=Europe/Berlin:20260311T181500
DTEND;TZID=Europe/Berlin:20260311T194500
UID:261S401-20260311T181500@VHSLINDAU
SUMMARY:Deutsch als Fremdsprache – Grundstufe (A1.2) (261S401) 
LOCATION:Staatliche Berufsschule, Reutiner Str. 10, Raum BS 009, Reutiner Str. 10, 88131 Lindau
END:VEVENT
BEGIN:VEVENT
DTSTAMP:20260422T162056
DTSTART;TZID=Europe/Berlin:20260318T181500
DTEND;TZID=Europe/Berlin:20260318T194500
UID:261S401-20260318T181500@VHSLINDAU
SUMMARY:Deutsch als Fremdsprache – Grundstufe (A1.2) (261S401) 
LOCATION:Staatliche Berufsschule, Reutiner Str. 10, Raum BS 009, Reutiner Str. 10, 88131 Lindau
END:VEVENT
BEGIN:VEVENT
DTSTAMP:20260422T162056
DTSTART;TZID=Europe/Berlin:20260325T181500
DTEND;TZID=Europe/Berlin:20260325T194500
UID:261S401-20260325T181500@VHSLINDAU
SUMMARY:Deutsch als Fremdsprache – Grundstufe (A1.2) (261S401) 
LOCATION:Staatliche Berufsschule, Reutiner Str. 10, Raum BS 009, Reutiner Str. 10, 88131 Lindau
END:VEVENT
BEGIN:VEVENT
DTSTAMP:20260422T162056
DTSTART;TZID=Europe/Berlin:20260415T181500
DTEND;TZID=Europe/Berlin:20260415T194500
UID:261S401-20260415T181500@VHSLINDAU
SUMMARY:Deutsch als Fremdsprache – Grundstufe (A1.2) (261S401) 
LOCATION:Staatliche Berufsschule, Reutiner Str. 10, Raum BS 009, Reutiner Str. 10, 88131 Lindau
END:VEVENT
BEGIN:VEVENT
DTSTAMP:20260422T162056
DTSTART;TZID=Europe/Berlin:20260422T181500
DTEND;TZID=Europe/Berlin:20260422T194500
UID:261S401-20260422T181500@VHSLINDAU
SUMMARY:Deutsch als Fremdsprache – Grundstufe (A1.2) (261S401) 
LOCATION:Staatliche Berufsschule, Reutiner Str. 10, Raum BS 009, Reutiner Str. 10, 88131 Lindau
END:VEVENT
BEGIN:VEVENT
DTSTAMP:20260422T162056
DTSTART;TZID=Europe/Berlin:20260429T181500
DTEND;TZID=Europe/Berlin:20260429T194500
UID:261S401-20260429T181500@VHSLINDAU
SUMMARY:Deutsch als Fremdsprache – Grundstufe (A1.2) (261S401) 
LOCATION:Staatliche Berufsschule, Reutiner Str. 10, Raum BS 009, Reutiner Str. 10, 88131 Lindau
END:VEVENT
BEGIN:VEVENT
DTSTAMP:20260422T162056
DTSTART;TZID=Europe/Berlin:20260506T181500
DTEND;TZID=Europe/Berlin:20260506T194500
UID:261S401-20260506T181500@VHSLINDAU
SUMMARY:Deutsch als Fremdsprache – Grundstufe (A1.2) (261S401) 
LOCATION:Staatliche Berufsschule, Reutiner Str. 10, Raum BS 009, Reutiner Str. 10, 88131 Lindau
END:VEVENT
BEGIN:VEVENT
DTSTAMP:20260422T162056
DTSTART;TZID=Europe/Berlin:20260513T181500
DTEND;TZID=Europe/Berlin:20260513T194500
UID:261S401-20260513T181500@VHSLINDAU
SUMMARY:Deutsch als Fremdsprache – Grundstufe (A1.2) (261S401) 
LOCATION:Staatliche Berufsschule, Reutiner Str. 10, Raum BS 009, Reutiner Str. 10, 88131 Lindau
END:VEVENT
BEGIN:VEVENT
DTSTAMP:20260422T162056
DTSTART;TZID=Europe/Berlin:20260520T181500
DTEND;TZID=Europe/Berlin:20260520T194500
UID:261S401-20260520T181500@VHSLINDAU
SUMMARY:Deutsch als Fremdsprache – Grundstufe (A1.2) (261S401) 
LOCATION:Staatliche Berufsschule, Reutiner Str. 10, Raum BS 009, Reutiner Str. 10, 88131 Lindau
END:VEVENT
END:VCALENDAR