BEGIN:VCALENDAR
VERSION:2.0
PRODID:https://www.kufer.de/kuferweb / DE
METHOD:PUBLISH
CALSCALE:GREGORIAN
X-WR-TIMEZONE:Europe/Berlin
BEGIN:VTIMEZONE
TZID:Europe/Berlin
X-LIC-LOCATION:Europe/Berlin
BEGIN:DAYLIGHT
TZOFFSETFROM:+0100
TZOFFSETTO:+0200
TZNAME:CEST
DTSTART:19700329T020000
RRULE:FREQ=YEARLY;INTERVAL=1;BYDAY=-1SU;BYMONTH=3
END:DAYLIGHT
BEGIN:STANDARD
TZOFFSETFROM:+0200
TZOFFSETTO:+0100
TZNAME:CET
DTSTART:19701025T030000
RRULE:FREQ=YEARLY;INTERVAL=1;BYDAY=-1SU;BYMONTH=10
END:STANDARD
END:VTIMEZONE
BEGIN:VEVENT
DTSTAMP:20260422T150708
DTSTART;TZID=Europe/Berlin:20260210T180000
DTEND;TZID=Europe/Berlin:20260210T193000
UID:261S300-20260210T180000@VHSLINDAU
SUMMARY:Spanisch für Anfänger:innen (A1.2) (261S300) 
LOCATION:vhs-Gebäude, Uferweg 7, Seminarraum 4, Uferweg 7, 88131 Lindau
END:VEVENT
BEGIN:VEVENT
DTSTAMP:20260422T150708
DTSTART;TZID=Europe/Berlin:20260224T180000
DTEND;TZID=Europe/Berlin:20260224T193000
UID:261S300-20260224T180000@VHSLINDAU
SUMMARY:Spanisch für Anfänger:innen (A1.2) (261S300) 
LOCATION:vhs-Gebäude, Uferweg 7, Seminarraum 4, Uferweg 7, 88131 Lindau
END:VEVENT
BEGIN:VEVENT
DTSTAMP:20260422T150708
DTSTART;TZID=Europe/Berlin:20260310T180000
DTEND;TZID=Europe/Berlin:20260310T193000
UID:261S300-20260310T180000@VHSLINDAU
DESCRIPTION:Ersatztag für den zuvor geplanten 31.3.26ST
SUMMARY:Spanisch für Anfänger:innen (A1.2) (261S300) 
LOCATION:vhs-Gebäude, Uferweg 7, Seminarraum 4, Uferweg 7, 88131 Lindau
END:VEVENT
BEGIN:VEVENT
DTSTAMP:20260422T150708
DTSTART;TZID=Europe/Berlin:20260414T180000
DTEND;TZID=Europe/Berlin:20260414T193000
UID:261S300-20260414T180000@VHSLINDAU
SUMMARY:Spanisch für Anfänger:innen (A1.2) (261S300) 
LOCATION:vhs-Gebäude, Uferweg 7, EDV-Raum, Uferweg 7, 88131 Lindau
END:VEVENT
BEGIN:VEVENT
DTSTAMP:20260422T150708
DTSTART;TZID=Europe/Berlin:20260421T180000
DTEND;TZID=Europe/Berlin:20260421T193000
UID:261S300-20260421T180000@VHSLINDAU
SUMMARY:Spanisch für Anfänger:innen (A1.2) (261S300) 
LOCATION:vhs-Gebäude, Uferweg 7, EDV-Raum, Uferweg 7, 88131 Lindau
END:VEVENT
BEGIN:VEVENT
DTSTAMP:20260422T150708
DTSTART;TZID=Europe/Berlin:20260428T180000
DTEND;TZID=Europe/Berlin:20260428T193000
UID:261S300-20260428T180000@VHSLINDAU
SUMMARY:Spanisch für Anfänger:innen (A1.2) (261S300) 
LOCATION:vhs-Gebäude, Uferweg 7, EDV-Raum, Uferweg 7, 88131 Lindau
END:VEVENT
BEGIN:VEVENT
DTSTAMP:20260422T150708
DTSTART;TZID=Europe/Berlin:20260505T180000
DTEND;TZID=Europe/Berlin:20260505T193000
UID:261S300-20260505T180000@VHSLINDAU
SUMMARY:Spanisch für Anfänger:innen (A1.2) (261S300) 
LOCATION:vhs-Gebäude, Uferweg 7, EDV-Raum, Uferweg 7, 88131 Lindau
END:VEVENT
BEGIN:VEVENT
DTSTAMP:20260422T150708
DTSTART;TZID=Europe/Berlin:20260616T180000
DTEND;TZID=Europe/Berlin:20260616T193000
UID:261S300-20260616T180000@VHSLINDAU
SUMMARY:Spanisch für Anfänger:innen (A1.2) (261S300) 
LOCATION:vhs-Gebäude, Uferweg 7, EDV-Raum, Uferweg 7, 88131 Lindau
END:VEVENT
BEGIN:VEVENT
DTSTAMP:20260422T150708
DTSTART;TZID=Europe/Berlin:20260623T180000
DTEND;TZID=Europe/Berlin:20260623T193000
UID:261S300-20260623T180000@VHSLINDAU
SUMMARY:Spanisch für Anfänger:innen (A1.2) (261S300) 
LOCATION:vhs-Gebäude, Uferweg 7, EDV-Raum, Uferweg 7, 88131 Lindau
END:VEVENT
BEGIN:VEVENT
DTSTAMP:20260422T150708
DTSTART;TZID=Europe/Berlin:20260630T180000
DTEND;TZID=Europe/Berlin:20260630T193000
UID:261S300-20260630T180000@VHSLINDAU
SUMMARY:Spanisch für Anfänger:innen (A1.2) (261S300) 
LOCATION:vhs-Gebäude, Uferweg 7, EDV-Raum, Uferweg 7, 88131 Lindau
END:VEVENT
END:VCALENDAR