BEGIN:VCALENDAR
VERSION:2.0
PRODID:https://www.kufer.de/kuferweb / DE
METHOD:PUBLISH
CALSCALE:GREGORIAN
X-WR-TIMEZONE:Europe/Berlin
BEGIN:VTIMEZONE
TZID:Europe/Berlin
X-LIC-LOCATION:Europe/Berlin
BEGIN:DAYLIGHT
TZOFFSETFROM:+0100
TZOFFSETTO:+0200
TZNAME:CEST
DTSTART:19700329T020000
RRULE:FREQ=YEARLY;INTERVAL=1;BYDAY=-1SU;BYMONTH=3
END:DAYLIGHT
BEGIN:STANDARD
TZOFFSETFROM:+0200
TZOFFSETTO:+0100
TZNAME:CET
DTSTART:19701025T030000
RRULE:FREQ=YEARLY;INTERVAL=1;BYDAY=-1SU;BYMONTH=10
END:STANDARD
END:VTIMEZONE
BEGIN:VEVENT
DTSTAMP:20260423T153631
DTSTART;TZID=Europe/Berlin:20260611T105000
DTEND;TZID=Europe/Berlin:20260611T122000
UID:261S218-20260611T105000@VHSLINDAU
SUMMARY:Italienisch Konversationskurs (A1-A2) (261S218) 
LOCATION:vhs-Gebäude, Uferweg 7, Seminarraum 4, Uferweg 7, 88131 Lindau
END:VEVENT
BEGIN:VEVENT
DTSTAMP:20260423T153631
DTSTART;TZID=Europe/Berlin:20260618T105000
DTEND;TZID=Europe/Berlin:20260618T122000
UID:261S218-20260618T105000@VHSLINDAU
SUMMARY:Italienisch Konversationskurs (A1-A2) (261S218) 
LOCATION:vhs-Gebäude, Uferweg 7, Seminarraum 4, Uferweg 7, 88131 Lindau
END:VEVENT
BEGIN:VEVENT
DTSTAMP:20260423T153631
DTSTART;TZID=Europe/Berlin:20260709T105000
DTEND;TZID=Europe/Berlin:20260709T122000
UID:261S218-20260709T105000@VHSLINDAU
SUMMARY:Italienisch Konversationskurs (A1-A2) (261S218) 
LOCATION:vhs-Gebäude, Uferweg 7, Seminarraum 4, Uferweg 7, 88131 Lindau
END:VEVENT
BEGIN:VEVENT
DTSTAMP:20260423T153631
DTSTART;TZID=Europe/Berlin:20260716T105000
DTEND;TZID=Europe/Berlin:20260716T122000
UID:261S218-20260716T105000@VHSLINDAU
SUMMARY:Italienisch Konversationskurs (A1-A2) (261S218) 
LOCATION:vhs-Gebäude, Uferweg 7, Seminarraum 4, Uferweg 7, 88131 Lindau
END:VEVENT
BEGIN:VEVENT
DTSTAMP:20260423T153631
DTSTART;TZID=Europe/Berlin:20260723T105000
DTEND;TZID=Europe/Berlin:20260723T122000
UID:261S218-20260723T105000@VHSLINDAU
SUMMARY:Italienisch Konversationskurs (A1-A2) (261S218) 
LOCATION:vhs-Gebäude, Uferweg 7, Seminarraum 4, Uferweg 7, 88131 Lindau
END:VEVENT
END:VCALENDAR