BEGIN:VCALENDAR
VERSION:2.0
PRODID:https://www.kufer.de/kuferweb / DE
METHOD:PUBLISH
CALSCALE:GREGORIAN
X-WR-TIMEZONE:Europe/Berlin
BEGIN:VTIMEZONE
TZID:Europe/Berlin
X-LIC-LOCATION:Europe/Berlin
BEGIN:DAYLIGHT
TZOFFSETFROM:+0100
TZOFFSETTO:+0200
TZNAME:CEST
DTSTART:19700329T020000
RRULE:FREQ=YEARLY;INTERVAL=1;BYDAY=-1SU;BYMONTH=3
END:DAYLIGHT
BEGIN:STANDARD
TZOFFSETFROM:+0200
TZOFFSETTO:+0100
TZNAME:CET
DTSTART:19701025T030000
RRULE:FREQ=YEARLY;INTERVAL=1;BYDAY=-1SU;BYMONTH=10
END:STANDARD
END:VTIMEZONE
BEGIN:VEVENT
DTSTAMP:20260422T162154
DTSTART;TZID=Europe/Berlin:20260615T200500
DTEND;TZID=Europe/Berlin:20260615T213500
UID:261S217-20260615T200500@VHSLINDAU
SUMMARY:Parliamo in italiano! Konversationskurs A2/B1 (261S217) 
LOCATION:Staatliche Berufsschule, Reutiner Str. 10, Raum 024, Reutiner Str. 10, Lindau
END:VEVENT
BEGIN:VEVENT
DTSTAMP:20260422T162154
DTSTART;TZID=Europe/Berlin:20260622T200500
DTEND;TZID=Europe/Berlin:20260622T213500
UID:261S217-20260622T200500@VHSLINDAU
SUMMARY:Parliamo in italiano! Konversationskurs A2/B1 (261S217) 
LOCATION:Staatliche Berufsschule, Reutiner Str. 10, Raum 024, Reutiner Str. 10, Lindau
END:VEVENT
BEGIN:VEVENT
DTSTAMP:20260422T162154
DTSTART;TZID=Europe/Berlin:20260629T200500
DTEND;TZID=Europe/Berlin:20260629T213500
UID:261S217-20260629T200500@VHSLINDAU
SUMMARY:Parliamo in italiano! Konversationskurs A2/B1 (261S217) 
LOCATION:Staatliche Berufsschule, Reutiner Str. 10, Raum 024, Reutiner Str. 10, Lindau
END:VEVENT
BEGIN:VEVENT
DTSTAMP:20260422T162154
DTSTART;TZID=Europe/Berlin:20260706T200500
DTEND;TZID=Europe/Berlin:20260706T213500
UID:261S217-20260706T200500@VHSLINDAU
SUMMARY:Parliamo in italiano! Konversationskurs A2/B1 (261S217) 
LOCATION:Staatliche Berufsschule, Reutiner Str. 10, Raum 024, Reutiner Str. 10, Lindau
END:VEVENT
BEGIN:VEVENT
DTSTAMP:20260422T162154
DTSTART;TZID=Europe/Berlin:20260713T200500
DTEND;TZID=Europe/Berlin:20260713T213500
UID:261S217-20260713T200500@VHSLINDAU
SUMMARY:Parliamo in italiano! Konversationskurs A2/B1 (261S217) 
LOCATION:Staatliche Berufsschule, Reutiner Str. 10, Raum 024, Reutiner Str. 10, Lindau
END:VEVENT
BEGIN:VEVENT
DTSTAMP:20260422T162154
DTSTART;TZID=Europe/Berlin:20260720T200500
DTEND;TZID=Europe/Berlin:20260720T213500
UID:261S217-20260720T200500@VHSLINDAU
SUMMARY:Parliamo in italiano! Konversationskurs A2/B1 (261S217) 
LOCATION:Staatliche Berufsschule, Reutiner Str. 10, Raum 024, Reutiner Str. 10, Lindau
END:VEVENT
END:VCALENDAR