BEGIN:VCALENDAR
VERSION:2.0
PRODID:https://www.kufer.de/kuferweb / DE
METHOD:PUBLISH
CALSCALE:GREGORIAN
X-WR-TIMEZONE:Europe/Berlin
BEGIN:VTIMEZONE
TZID:Europe/Berlin
X-LIC-LOCATION:Europe/Berlin
BEGIN:DAYLIGHT
TZOFFSETFROM:+0100
TZOFFSETTO:+0200
TZNAME:CEST
DTSTART:19700329T020000
RRULE:FREQ=YEARLY;INTERVAL=1;BYDAY=-1SU;BYMONTH=3
END:DAYLIGHT
BEGIN:STANDARD
TZOFFSETFROM:+0200
TZOFFSETTO:+0100
TZNAME:CET
DTSTART:19701025T030000
RRULE:FREQ=YEARLY;INTERVAL=1;BYDAY=-1SU;BYMONTH=10
END:STANDARD
END:VTIMEZONE
BEGIN:VEVENT
DTSTAMP:20260422T150626
DTSTART;TZID=Europe/Berlin:20260210T082000
DTEND;TZID=Europe/Berlin:20260210T095000
UID:261S215-20260210T082000@VHSLINDAU
SUMMARY:Italienisch im Alltag (A2.2) (261S215) 
LOCATION:vhs-Gebäude, Uferweg 7, EDV-Raum, Uferweg 7, 88131 Lindau
END:VEVENT
BEGIN:VEVENT
DTSTAMP:20260422T150626
DTSTART;TZID=Europe/Berlin:20260224T082000
DTEND;TZID=Europe/Berlin:20260224T095000
UID:261S215-20260224T082000@VHSLINDAU
SUMMARY:Italienisch im Alltag (A2.2) (261S215) 
LOCATION:vhs-Gebäude, Uferweg 7, EDV-Raum, Uferweg 7, 88131 Lindau
END:VEVENT
BEGIN:VEVENT
DTSTAMP:20260422T150626
DTSTART;TZID=Europe/Berlin:20260303T082000
DTEND;TZID=Europe/Berlin:20260303T095000
UID:261S215-20260303T082000@VHSLINDAU
SUMMARY:Italienisch im Alltag (A2.2) (261S215) 
LOCATION:vhs-Gebäude, Uferweg 7, EDV-Raum, Uferweg 7, 88131 Lindau
END:VEVENT
BEGIN:VEVENT
DTSTAMP:20260422T150626
DTSTART;TZID=Europe/Berlin:20260310T082000
DTEND;TZID=Europe/Berlin:20260310T095000
UID:261S215-20260310T082000@VHSLINDAU
SUMMARY:Italienisch im Alltag (A2.2) (261S215) 
LOCATION:vhs-Gebäude, Uferweg 7, EDV-Raum, Uferweg 7, 88131 Lindau
END:VEVENT
BEGIN:VEVENT
DTSTAMP:20260422T150626
DTSTART;TZID=Europe/Berlin:20260317T082000
DTEND;TZID=Europe/Berlin:20260317T095000
UID:261S215-20260317T082000@VHSLINDAU
SUMMARY:Italienisch im Alltag (A2.2) (261S215) 
LOCATION:vhs-Gebäude, Uferweg 7, EDV-Raum, Uferweg 7, 88131 Lindau
END:VEVENT
BEGIN:VEVENT
DTSTAMP:20260422T150626
DTSTART;TZID=Europe/Berlin:20260324T082000
DTEND;TZID=Europe/Berlin:20260324T095000
UID:261S215-20260324T082000@VHSLINDAU
SUMMARY:Italienisch im Alltag (A2.2) (261S215) 
LOCATION:vhs-Gebäude, Uferweg 7, EDV-Raum, Uferweg 7, 88131 Lindau
END:VEVENT
BEGIN:VEVENT
DTSTAMP:20260422T150626
DTSTART;TZID=Europe/Berlin:20260414T082000
DTEND;TZID=Europe/Berlin:20260414T095000
UID:261S215-20260414T082000@VHSLINDAU
SUMMARY:Italienisch im Alltag (A2.2) (261S215) 
LOCATION:vhs-Gebäude, Uferweg 7, EDV-Raum, Uferweg 7, 88131 Lindau
END:VEVENT
BEGIN:VEVENT
DTSTAMP:20260422T150626
DTSTART;TZID=Europe/Berlin:20260421T082000
DTEND;TZID=Europe/Berlin:20260421T095000
UID:261S215-20260421T082000@VHSLINDAU
SUMMARY:Italienisch im Alltag (A2.2) (261S215) 
LOCATION:vhs-Gebäude, Uferweg 7, EDV-Raum, Uferweg 7, 88131 Lindau
END:VEVENT
BEGIN:VEVENT
DTSTAMP:20260422T150626
DTSTART;TZID=Europe/Berlin:20260428T082000
DTEND;TZID=Europe/Berlin:20260428T095000
UID:261S215-20260428T082000@VHSLINDAU
SUMMARY:Italienisch im Alltag (A2.2) (261S215) 
LOCATION:vhs-Gebäude, Uferweg 7, EDV-Raum, Uferweg 7, 88131 Lindau
END:VEVENT
BEGIN:VEVENT
DTSTAMP:20260422T150626
DTSTART;TZID=Europe/Berlin:20260505T082000
DTEND;TZID=Europe/Berlin:20260505T095000
UID:261S215-20260505T082000@VHSLINDAU
SUMMARY:Italienisch im Alltag (A2.2) (261S215) 
LOCATION:vhs-Gebäude, Uferweg 7, EDV-Raum, Uferweg 7, 88131 Lindau
END:VEVENT
BEGIN:VEVENT
DTSTAMP:20260422T150626
DTSTART;TZID=Europe/Berlin:20260512T082000
DTEND;TZID=Europe/Berlin:20260512T095000
UID:261S215-20260512T082000@VHSLINDAU
SUMMARY:Italienisch im Alltag (A2.2) (261S215) 
LOCATION:vhs-Gebäude, Uferweg 7, EDV-Raum, Uferweg 7, 88131 Lindau
END:VEVENT
BEGIN:VEVENT
DTSTAMP:20260422T150626
DTSTART;TZID=Europe/Berlin:20260519T082000
DTEND;TZID=Europe/Berlin:20260519T095000
UID:261S215-20260519T082000@VHSLINDAU
SUMMARY:Italienisch im Alltag (A2.2) (261S215) 
LOCATION:vhs-Gebäude, Uferweg 7, EDV-Raum, Uferweg 7, 88131 Lindau
END:VEVENT
END:VCALENDAR