BEGIN:VCALENDAR
VERSION:2.0
PRODID:https://www.kufer.de/kuferweb / DE
METHOD:PUBLISH
CALSCALE:GREGORIAN
X-WR-TIMEZONE:Europe/Berlin
BEGIN:VTIMEZONE
TZID:Europe/Berlin
X-LIC-LOCATION:Europe/Berlin
BEGIN:DAYLIGHT
TZOFFSETFROM:+0100
TZOFFSETTO:+0200
TZNAME:CEST
DTSTART:19700329T020000
RRULE:FREQ=YEARLY;INTERVAL=1;BYDAY=-1SU;BYMONTH=3
END:DAYLIGHT
BEGIN:STANDARD
TZOFFSETFROM:+0200
TZOFFSETTO:+0100
TZNAME:CET
DTSTART:19701025T030000
RRULE:FREQ=YEARLY;INTERVAL=1;BYDAY=-1SU;BYMONTH=10
END:STANDARD
END:VTIMEZONE
BEGIN:VEVENT
DTSTAMP:20260422T163011
DTSTART;TZID=Europe/Berlin:20260226T104500
DTEND;TZID=Europe/Berlin:20260226T121500
UID:261S211-20260226T104500@VHSLINDAU
SUMMARY:Italienisch A2 - Nuovo Espresso 2 (ab Lekt. 3) (261S211) 
LOCATION:vhs-Gebäude, Uferweg 7, Seminarraum 4, Uferweg 7, 88131 Lindau
END:VEVENT
BEGIN:VEVENT
DTSTAMP:20260422T163011
DTSTART;TZID=Europe/Berlin:20260305T104500
DTEND;TZID=Europe/Berlin:20260305T121500
UID:261S211-20260305T104500@VHSLINDAU
SUMMARY:Italienisch A2 - Nuovo Espresso 2 (ab Lekt. 3) (261S211) 
LOCATION:vhs-Gebäude, Uferweg 7, Seminarraum 4, Uferweg 7, 88131 Lindau
END:VEVENT
BEGIN:VEVENT
DTSTAMP:20260422T163011
DTSTART;TZID=Europe/Berlin:20260312T104500
DTEND;TZID=Europe/Berlin:20260312T121500
UID:261S211-20260312T104500@VHSLINDAU
SUMMARY:Italienisch A2 - Nuovo Espresso 2 (ab Lekt. 3) (261S211) 
LOCATION:vhs-Gebäude, Uferweg 7, Seminarraum 4, Uferweg 7, 88131 Lindau
END:VEVENT
BEGIN:VEVENT
DTSTAMP:20260422T163011
DTSTART;TZID=Europe/Berlin:20260326T104500
DTEND;TZID=Europe/Berlin:20260326T121500
UID:261S211-20260326T104500@VHSLINDAU
SUMMARY:Italienisch A2 - Nuovo Espresso 2 (ab Lekt. 3) (261S211) 
LOCATION:vhs-Gebäude, Uferweg 7, Seminarraum 4, Uferweg 7, 88131 Lindau
END:VEVENT
BEGIN:VEVENT
DTSTAMP:20260422T163011
DTSTART;TZID=Europe/Berlin:20260416T104500
DTEND;TZID=Europe/Berlin:20260416T121500
UID:261S211-20260416T104500@VHSLINDAU
SUMMARY:Italienisch A2 - Nuovo Espresso 2 (ab Lekt. 3) (261S211) 
LOCATION:vhs-Gebäude, Uferweg 7, Seminarraum 4, Uferweg 7, 88131 Lindau
END:VEVENT
BEGIN:VEVENT
DTSTAMP:20260422T163011
DTSTART;TZID=Europe/Berlin:20260423T104500
DTEND;TZID=Europe/Berlin:20260423T121500
UID:261S211-20260423T104500@VHSLINDAU
SUMMARY:Italienisch A2 - Nuovo Espresso 2 (ab Lekt. 3) (261S211) 
LOCATION:vhs-Gebäude, Uferweg 7, Seminarraum 4, Uferweg 7, 88131 Lindau
END:VEVENT
BEGIN:VEVENT
DTSTAMP:20260422T163011
DTSTART;TZID=Europe/Berlin:20260430T104500
DTEND;TZID=Europe/Berlin:20260430T121500
UID:261S211-20260430T104500@VHSLINDAU
SUMMARY:Italienisch A2 - Nuovo Espresso 2 (ab Lekt. 3) (261S211) 
LOCATION:vhs-Gebäude, Uferweg 7, Seminarraum 4, Uferweg 7, 88131 Lindau
END:VEVENT
BEGIN:VEVENT
DTSTAMP:20260422T163011
DTSTART;TZID=Europe/Berlin:20260507T104500
DTEND;TZID=Europe/Berlin:20260507T121500
UID:261S211-20260507T104500@VHSLINDAU
SUMMARY:Italienisch A2 - Nuovo Espresso 2 (ab Lekt. 3) (261S211) 
LOCATION:vhs-Gebäude, Uferweg 7, Seminarraum 4, Uferweg 7, 88131 Lindau
END:VEVENT
BEGIN:VEVENT
DTSTAMP:20260422T163011
DTSTART;TZID=Europe/Berlin:20260521T104500
DTEND;TZID=Europe/Berlin:20260521T121500
UID:261S211-20260521T104500@VHSLINDAU
SUMMARY:Italienisch A2 - Nuovo Espresso 2 (ab Lekt. 3) (261S211) 
LOCATION:vhs-Gebäude, Uferweg 7, Seminarraum 4, Uferweg 7, 88131 Lindau
END:VEVENT
END:VCALENDAR