BEGIN:VCALENDAR
VERSION:2.0
PRODID:https://www.kufer.de/kuferweb / DE
METHOD:PUBLISH
CALSCALE:GREGORIAN
X-WR-TIMEZONE:Europe/Berlin
BEGIN:VTIMEZONE
TZID:Europe/Berlin
X-LIC-LOCATION:Europe/Berlin
BEGIN:DAYLIGHT
TZOFFSETFROM:+0100
TZOFFSETTO:+0200
TZNAME:CEST
DTSTART:19700329T020000
RRULE:FREQ=YEARLY;INTERVAL=1;BYDAY=-1SU;BYMONTH=3
END:DAYLIGHT
BEGIN:STANDARD
TZOFFSETFROM:+0200
TZOFFSETTO:+0100
TZNAME:CET
DTSTART:19701025T030000
RRULE:FREQ=YEARLY;INTERVAL=1;BYDAY=-1SU;BYMONTH=10
END:STANDARD
END:VTIMEZONE
BEGIN:VEVENT
DTSTAMP:20260422T165017
DTSTART;TZID=Europe/Berlin:20260226T090000
DTEND;TZID=Europe/Berlin:20260226T103000
UID:261S204-20260226T090000@VHSLINDAU
SUMMARY:Italienisch A1 - Nuovo Espresso 1 (ab Lekt. 9) (261S204) 
LOCATION:vhs-Gebäude, Uferweg 7, Seminarraum 4, Uferweg 7, 88131 Lindau
END:VEVENT
BEGIN:VEVENT
DTSTAMP:20260422T165017
DTSTART;TZID=Europe/Berlin:20260305T090000
DTEND;TZID=Europe/Berlin:20260305T103000
UID:261S204-20260305T090000@VHSLINDAU
SUMMARY:Italienisch A1 - Nuovo Espresso 1 (ab Lekt. 9) (261S204) 
LOCATION:vhs-Gebäude, Uferweg 7, Seminarraum 4, Uferweg 7, 88131 Lindau
END:VEVENT
BEGIN:VEVENT
DTSTAMP:20260422T165017
DTSTART;TZID=Europe/Berlin:20260312T090000
DTEND;TZID=Europe/Berlin:20260312T103000
UID:261S204-20260312T090000@VHSLINDAU
SUMMARY:Italienisch A1 - Nuovo Espresso 1 (ab Lekt. 9) (261S204) 
LOCATION:vhs-Gebäude, Uferweg 7, Seminarraum 4, Uferweg 7, 88131 Lindau
END:VEVENT
BEGIN:VEVENT
DTSTAMP:20260422T165017
DTSTART;TZID=Europe/Berlin:20260326T090000
DTEND;TZID=Europe/Berlin:20260326T103000
UID:261S204-20260326T090000@VHSLINDAU
SUMMARY:Italienisch A1 - Nuovo Espresso 1 (ab Lekt. 9) (261S204) 
LOCATION:vhs-Gebäude, Uferweg 7, Seminarraum 4, Uferweg 7, 88131 Lindau
END:VEVENT
BEGIN:VEVENT
DTSTAMP:20260422T165017
DTSTART;TZID=Europe/Berlin:20260416T090000
DTEND;TZID=Europe/Berlin:20260416T103000
UID:261S204-20260416T090000@VHSLINDAU
SUMMARY:Italienisch A1 - Nuovo Espresso 1 (ab Lekt. 9) (261S204) 
LOCATION:vhs-Gebäude, Uferweg 7, Seminarraum 4, Uferweg 7, 88131 Lindau
END:VEVENT
BEGIN:VEVENT
DTSTAMP:20260422T165017
DTSTART;TZID=Europe/Berlin:20260423T090000
DTEND;TZID=Europe/Berlin:20260423T103000
UID:261S204-20260423T090000@VHSLINDAU
SUMMARY:Italienisch A1 - Nuovo Espresso 1 (ab Lekt. 9) (261S204) 
LOCATION:vhs-Gebäude, Uferweg 7, Seminarraum 4, Uferweg 7, 88131 Lindau
END:VEVENT
BEGIN:VEVENT
DTSTAMP:20260422T165017
DTSTART;TZID=Europe/Berlin:20260430T090000
DTEND;TZID=Europe/Berlin:20260430T103000
UID:261S204-20260430T090000@VHSLINDAU
SUMMARY:Italienisch A1 - Nuovo Espresso 1 (ab Lekt. 9) (261S204) 
LOCATION:vhs-Gebäude, Uferweg 7, Seminarraum 4, Uferweg 7, 88131 Lindau
END:VEVENT
BEGIN:VEVENT
DTSTAMP:20260422T165017
DTSTART;TZID=Europe/Berlin:20260507T090000
DTEND;TZID=Europe/Berlin:20260507T103000
UID:261S204-20260507T090000@VHSLINDAU
SUMMARY:Italienisch A1 - Nuovo Espresso 1 (ab Lekt. 9) (261S204) 
LOCATION:vhs-Gebäude, Uferweg 7, Seminarraum 4, Uferweg 7, 88131 Lindau
END:VEVENT
BEGIN:VEVENT
DTSTAMP:20260422T165017
DTSTART;TZID=Europe/Berlin:20260521T090000
DTEND;TZID=Europe/Berlin:20260521T103000
UID:261S204-20260521T090000@VHSLINDAU
SUMMARY:Italienisch A1 - Nuovo Espresso 1 (ab Lekt. 9) (261S204) 
LOCATION:vhs-Gebäude, Uferweg 7, Seminarraum 4, Uferweg 7, 88131 Lindau
END:VEVENT
END:VCALENDAR