BEGIN:VCALENDAR
VERSION:2.0
PRODID:https://www.kufer.de/kuferweb / DE
METHOD:PUBLISH
CALSCALE:GREGORIAN
X-WR-TIMEZONE:Europe/Berlin
BEGIN:VTIMEZONE
TZID:Europe/Berlin
X-LIC-LOCATION:Europe/Berlin
BEGIN:DAYLIGHT
TZOFFSETFROM:+0100
TZOFFSETTO:+0200
TZNAME:CEST
DTSTART:19700329T020000
RRULE:FREQ=YEARLY;INTERVAL=1;BYDAY=-1SU;BYMONTH=3
END:DAYLIGHT
BEGIN:STANDARD
TZOFFSETFROM:+0200
TZOFFSETTO:+0100
TZNAME:CET
DTSTART:19701025T030000
RRULE:FREQ=YEARLY;INTERVAL=1;BYDAY=-1SU;BYMONTH=10
END:STANDARD
END:VTIMEZONE
BEGIN:VEVENT
DTSTAMP:20260422T150711
DTSTART;TZID=Europe/Berlin:20260211T200500
DTEND;TZID=Europe/Berlin:20260211T213500
UID:261S002-20260211T200500@VHSLINDAU
SUMMARY:Englisch für den Urlaub (A1) (261S002) 
LOCATION:Staatliche Berufsschule, Reutiner Str. 10, Raum 022
END:VEVENT
BEGIN:VEVENT
DTSTAMP:20260422T150711
DTSTART;TZID=Europe/Berlin:20260225T200500
DTEND;TZID=Europe/Berlin:20260225T213500
UID:261S002-20260225T200500@VHSLINDAU
SUMMARY:Englisch für den Urlaub (A1) (261S002) 
LOCATION:Staatliche Berufsschule, Reutiner Str. 10, Raum 022
END:VEVENT
BEGIN:VEVENT
DTSTAMP:20260422T150711
DTSTART;TZID=Europe/Berlin:20260304T200500
DTEND;TZID=Europe/Berlin:20260304T213500
UID:261S002-20260304T200500@VHSLINDAU
SUMMARY:Englisch für den Urlaub (A1) (261S002) 
LOCATION:Staatliche Berufsschule, Reutiner Str. 10, Raum 022
END:VEVENT
BEGIN:VEVENT
DTSTAMP:20260422T150711
DTSTART;TZID=Europe/Berlin:20260311T200500
DTEND;TZID=Europe/Berlin:20260311T213500
UID:261S002-20260311T200500@VHSLINDAU
SUMMARY:Englisch für den Urlaub (A1) (261S002) 
LOCATION:Staatliche Berufsschule, Reutiner Str. 10, Raum 022
END:VEVENT
BEGIN:VEVENT
DTSTAMP:20260422T150711
DTSTART;TZID=Europe/Berlin:20260318T200500
DTEND;TZID=Europe/Berlin:20260318T213500
UID:261S002-20260318T200500@VHSLINDAU
SUMMARY:Englisch für den Urlaub (A1) (261S002) 
LOCATION:Staatliche Berufsschule, Reutiner Str. 10, Raum 022
END:VEVENT
BEGIN:VEVENT
DTSTAMP:20260422T150711
DTSTART;TZID=Europe/Berlin:20260325T200500
DTEND;TZID=Europe/Berlin:20260325T213500
UID:261S002-20260325T200500@VHSLINDAU
SUMMARY:Englisch für den Urlaub (A1) (261S002) 
LOCATION:Staatliche Berufsschule, Reutiner Str. 10, Raum 022
END:VEVENT
BEGIN:VEVENT
DTSTAMP:20260422T150711
DTSTART;TZID=Europe/Berlin:20260422T200500
DTEND;TZID=Europe/Berlin:20260422T213500
UID:261S002-20260422T200500@VHSLINDAU
SUMMARY:Englisch für den Urlaub (A1) (261S002) 
LOCATION:Staatliche Berufsschule, Reutiner Str. 10, Raum 022
END:VEVENT
BEGIN:VEVENT
DTSTAMP:20260422T150711
DTSTART;TZID=Europe/Berlin:20260429T200500
DTEND;TZID=Europe/Berlin:20260429T213500
UID:261S002-20260429T200500@VHSLINDAU
SUMMARY:Englisch für den Urlaub (A1) (261S002) 
LOCATION:Staatliche Berufsschule, Reutiner Str. 10, Raum 022
END:VEVENT
BEGIN:VEVENT
DTSTAMP:20260422T150711
DTSTART;TZID=Europe/Berlin:20260507T200500
DTEND;TZID=Europe/Berlin:20260507T213500
UID:261S002-20260507T200500@VHSLINDAU
SUMMARY:Englisch für den Urlaub (A1) (261S002) 
LOCATION:Staatliche Berufsschule, Reutiner Str. 10, Raum 022
END:VEVENT
BEGIN:VEVENT
DTSTAMP:20260422T150711
DTSTART;TZID=Europe/Berlin:20260513T200500
DTEND;TZID=Europe/Berlin:20260513T213500
UID:261S002-20260513T200500@VHSLINDAU
DESCRIPTION:Ersatz für 15.04.2026/KH
SUMMARY:Englisch für den Urlaub (A1) (261S002) 
LOCATION:Staatliche Berufsschule, Reutiner Str. 10, Raum 022
END:VEVENT
END:VCALENDAR