BEGIN:VCALENDAR
VERSION:2.0
PRODID:https://www.kufer.de/kuferweb / DE
METHOD:PUBLISH
CALSCALE:GREGORIAN
X-WR-TIMEZONE:Europe/Berlin
BEGIN:VTIMEZONE
TZID:Europe/Berlin
X-LIC-LOCATION:Europe/Berlin
BEGIN:DAYLIGHT
TZOFFSETFROM:+0100
TZOFFSETTO:+0200
TZNAME:CEST
DTSTART:19700329T020000
RRULE:FREQ=YEARLY;INTERVAL=1;BYDAY=-1SU;BYMONTH=3
END:DAYLIGHT
BEGIN:STANDARD
TZOFFSETFROM:+0200
TZOFFSETTO:+0100
TZNAME:CET
DTSTART:19701025T030000
RRULE:FREQ=YEARLY;INTERVAL=1;BYDAY=-1SU;BYMONTH=10
END:STANDARD
END:VTIMEZONE
BEGIN:VEVENT
DTSTAMP:20260422T165015
DTSTART;TZID=Europe/Berlin:20260613T100000
DTEND;TZID=Europe/Berlin:20260613T121500
UID:261K206-20260613T100000@VHSLINDAU
SUMMARY:Mit Stift und Farbe Natur entdecken – ein Kurs in drei Teilen (261K206) 
LOCATION:Atelier agent-d, Grübels 18,  88138 Weißensberg,  Grübels 18 , 88138 Weißensberg
END:VEVENT
BEGIN:VEVENT
DTSTAMP:20260422T165015
DTSTART;TZID=Europe/Berlin:20260620T100000
DTEND;TZID=Europe/Berlin:20260620T121500
UID:261K206-20260620T100000@VHSLINDAU
SUMMARY:Mit Stift und Farbe Natur entdecken – ein Kurs in drei Teilen (261K206) 
LOCATION:Atelier agent-d, Grübels 18,  88138 Weißensberg,  Grübels 18 , 88138 Weißensberg
END:VEVENT
BEGIN:VEVENT
DTSTAMP:20260422T165015
DTSTART;TZID=Europe/Berlin:20260627T100000
DTEND;TZID=Europe/Berlin:20260627T121500
UID:261K206-20260627T100000@VHSLINDAU
SUMMARY:Mit Stift und Farbe Natur entdecken – ein Kurs in drei Teilen (261K206) 
LOCATION:Atelier agent-d, Grübels 18,  88138 Weißensberg,  Grübels 18 , 88138 Weißensberg
END:VEVENT
END:VCALENDAR