BEGIN:VCALENDAR
VERSION:2.0
PRODID:https://www.kufer.de/kuferweb / DE
METHOD:PUBLISH
CALSCALE:GREGORIAN
X-WR-TIMEZONE:Europe/Berlin
BEGIN:VTIMEZONE
TZID:Europe/Berlin
X-LIC-LOCATION:Europe/Berlin
BEGIN:DAYLIGHT
TZOFFSETFROM:+0100
TZOFFSETTO:+0200
TZNAME:CEST
DTSTART:19700329T020000
RRULE:FREQ=YEARLY;INTERVAL=1;BYDAY=-1SU;BYMONTH=3
END:DAYLIGHT
BEGIN:STANDARD
TZOFFSETFROM:+0200
TZOFFSETTO:+0100
TZNAME:CET
DTSTART:19701025T030000
RRULE:FREQ=YEARLY;INTERVAL=1;BYDAY=-1SU;BYMONTH=10
END:STANDARD
END:VTIMEZONE
BEGIN:VEVENT
DTSTAMP:20260422T162229
DTSTART;TZID=Europe/Berlin:20260508T190000
DTEND;TZID=Europe/Berlin:20260508T200000
UID:261G350-20260508T190000@VHSLINDAU
SUMMARY:Ballettabend „Der eingebildete Zauberer“ (261G350) 
LOCATION:Stadttheater, An der Kalkhütte 2a, Theatersaal, Fischergasse 37, 88131 Lindau
END:VEVENT
BEGIN:VEVENT
DTSTAMP:20260422T162229
DTSTART;TZID=Europe/Berlin:20260509T190000
DTEND;TZID=Europe/Berlin:20260509T200000
UID:261G350-20260509T190000@VHSLINDAU
SUMMARY:Ballettabend „Der eingebildete Zauberer“ (261G350) 
LOCATION:Stadttheater, An der Kalkhütte 2a, Theatersaal, Fischergasse 37, 88131 Lindau
END:VEVENT
END:VCALENDAR