BEGIN:VCALENDAR
VERSION:2.0
PRODID:https://www.kufer.de/kuferweb / DE
METHOD:PUBLISH
CALSCALE:GREGORIAN
X-WR-TIMEZONE:Europe/Berlin
BEGIN:VTIMEZONE
TZID:Europe/Berlin
X-LIC-LOCATION:Europe/Berlin
BEGIN:DAYLIGHT
TZOFFSETFROM:+0100
TZOFFSETTO:+0200
TZNAME:CEST
DTSTART:19700329T020000
RRULE:FREQ=YEARLY;INTERVAL=1;BYDAY=-1SU;BYMONTH=3
END:DAYLIGHT
BEGIN:STANDARD
TZOFFSETFROM:+0200
TZOFFSETTO:+0100
TZNAME:CET
DTSTART:19701025T030000
RRULE:FREQ=YEARLY;INTERVAL=1;BYDAY=-1SU;BYMONTH=10
END:STANDARD
END:VTIMEZONE
BEGIN:VEVENT
DTSTAMP:20260422T165017
DTSTART;TZID=Europe/Berlin:20260223T170000
DTEND;TZID=Europe/Berlin:20260223T180000
UID:261G343-20260223T170000@VHSLINDAU
SUMMARY:Klassisches Ballett für Jugendliche (Fortgeschrittene) - Fortsetzungskurs (261G343) 
LOCATION:Königssaal im Sünfzen, Maximilianstr. 1, Maximilianstraße 1, 88131 Lindau
END:VEVENT
BEGIN:VEVENT
DTSTAMP:20260422T165017
DTSTART;TZID=Europe/Berlin:20260302T170000
DTEND;TZID=Europe/Berlin:20260302T180000
UID:261G343-20260302T170000@VHSLINDAU
SUMMARY:Klassisches Ballett für Jugendliche (Fortgeschrittene) - Fortsetzungskurs (261G343) 
LOCATION:Königssaal im Sünfzen, Maximilianstr. 1, Maximilianstraße 1, 88131 Lindau
END:VEVENT
BEGIN:VEVENT
DTSTAMP:20260422T165017
DTSTART;TZID=Europe/Berlin:20260309T170000
DTEND;TZID=Europe/Berlin:20260309T180000
UID:261G343-20260309T170000@VHSLINDAU
SUMMARY:Klassisches Ballett für Jugendliche (Fortgeschrittene) - Fortsetzungskurs (261G343) 
LOCATION:Königssaal im Sünfzen, Maximilianstr. 1, Maximilianstraße 1, 88131 Lindau
END:VEVENT
BEGIN:VEVENT
DTSTAMP:20260422T165017
DTSTART;TZID=Europe/Berlin:20260316T170000
DTEND;TZID=Europe/Berlin:20260316T180000
UID:261G343-20260316T170000@VHSLINDAU
SUMMARY:Klassisches Ballett für Jugendliche (Fortgeschrittene) - Fortsetzungskurs (261G343) 
LOCATION:Königssaal im Sünfzen, Maximilianstr. 1, Maximilianstraße 1, 88131 Lindau
END:VEVENT
BEGIN:VEVENT
DTSTAMP:20260422T165017
DTSTART;TZID=Europe/Berlin:20260323T170000
DTEND;TZID=Europe/Berlin:20260323T180000
UID:261G343-20260323T170000@VHSLINDAU
SUMMARY:Klassisches Ballett für Jugendliche (Fortgeschrittene) - Fortsetzungskurs (261G343) 
LOCATION:Königssaal im Sünfzen, Maximilianstr. 1, Maximilianstraße 1, 88131 Lindau
END:VEVENT
BEGIN:VEVENT
DTSTAMP:20260422T165017
DTSTART;TZID=Europe/Berlin:20260413T170000
DTEND;TZID=Europe/Berlin:20260413T180000
UID:261G343-20260413T170000@VHSLINDAU
SUMMARY:Klassisches Ballett für Jugendliche (Fortgeschrittene) - Fortsetzungskurs (261G343) 
LOCATION:Königssaal im Sünfzen, Maximilianstr. 1, Maximilianstraße 1, 88131 Lindau
END:VEVENT
BEGIN:VEVENT
DTSTAMP:20260422T165017
DTSTART;TZID=Europe/Berlin:20260420T170000
DTEND;TZID=Europe/Berlin:20260420T180000
UID:261G343-20260420T170000@VHSLINDAU
SUMMARY:Klassisches Ballett für Jugendliche (Fortgeschrittene) - Fortsetzungskurs (261G343) 
LOCATION:Königssaal im Sünfzen, Maximilianstr. 1, Maximilianstraße 1, 88131 Lindau
END:VEVENT
BEGIN:VEVENT
DTSTAMP:20260422T165017
DTSTART;TZID=Europe/Berlin:20260427T170000
DTEND;TZID=Europe/Berlin:20260427T180000
UID:261G343-20260427T170000@VHSLINDAU
SUMMARY:Klassisches Ballett für Jugendliche (Fortgeschrittene) - Fortsetzungskurs (261G343) 
LOCATION:Königssaal im Sünfzen, Maximilianstr. 1, Maximilianstraße 1, 88131 Lindau
END:VEVENT
BEGIN:VEVENT
DTSTAMP:20260422T165017
DTSTART;TZID=Europe/Berlin:20260511T170000
DTEND;TZID=Europe/Berlin:20260511T180000
UID:261G343-20260511T170000@VHSLINDAU
SUMMARY:Klassisches Ballett für Jugendliche (Fortgeschrittene) - Fortsetzungskurs (261G343) 
LOCATION:Königssaal im Sünfzen, Maximilianstr. 1, Maximilianstraße 1, 88131 Lindau
END:VEVENT
BEGIN:VEVENT
DTSTAMP:20260422T165017
DTSTART;TZID=Europe/Berlin:20260518T170000
DTEND;TZID=Europe/Berlin:20260518T180000
UID:261G343-20260518T170000@VHSLINDAU
SUMMARY:Klassisches Ballett für Jugendliche (Fortgeschrittene) - Fortsetzungskurs (261G343) 
LOCATION:Königssaal im Sünfzen, Maximilianstr. 1, Maximilianstraße 1, 88131 Lindau
END:VEVENT
BEGIN:VEVENT
DTSTAMP:20260422T165017
DTSTART;TZID=Europe/Berlin:20260608T170000
DTEND;TZID=Europe/Berlin:20260608T180000
UID:261G343-20260608T170000@VHSLINDAU
SUMMARY:Klassisches Ballett für Jugendliche (Fortgeschrittene) - Fortsetzungskurs (261G343) 
LOCATION:Königssaal im Sünfzen, Maximilianstr. 1, Maximilianstraße 1, 88131 Lindau
END:VEVENT
BEGIN:VEVENT
DTSTAMP:20260422T165017
DTSTART;TZID=Europe/Berlin:20260615T170000
DTEND;TZID=Europe/Berlin:20260615T180000
UID:261G343-20260615T170000@VHSLINDAU
SUMMARY:Klassisches Ballett für Jugendliche (Fortgeschrittene) - Fortsetzungskurs (261G343) 
LOCATION:Königssaal im Sünfzen, Maximilianstr. 1, Maximilianstraße 1, 88131 Lindau
END:VEVENT
BEGIN:VEVENT
DTSTAMP:20260422T165017
DTSTART;TZID=Europe/Berlin:20260622T170000
DTEND;TZID=Europe/Berlin:20260622T180000
UID:261G343-20260622T170000@VHSLINDAU
SUMMARY:Klassisches Ballett für Jugendliche (Fortgeschrittene) - Fortsetzungskurs (261G343) 
LOCATION:Königssaal im Sünfzen, Maximilianstr. 1, Maximilianstraße 1, 88131 Lindau
END:VEVENT
BEGIN:VEVENT
DTSTAMP:20260422T165017
DTSTART;TZID=Europe/Berlin:20260629T170000
DTEND;TZID=Europe/Berlin:20260629T180000
UID:261G343-20260629T170000@VHSLINDAU
SUMMARY:Klassisches Ballett für Jugendliche (Fortgeschrittene) - Fortsetzungskurs (261G343) 
LOCATION:Königssaal im Sünfzen, Maximilianstr. 1, Maximilianstraße 1, 88131 Lindau
END:VEVENT
BEGIN:VEVENT
DTSTAMP:20260422T165017
DTSTART;TZID=Europe/Berlin:20260706T170000
DTEND;TZID=Europe/Berlin:20260706T180000
UID:261G343-20260706T170000@VHSLINDAU
SUMMARY:Klassisches Ballett für Jugendliche (Fortgeschrittene) - Fortsetzungskurs (261G343) 
LOCATION:Königssaal im Sünfzen, Maximilianstr. 1, Maximilianstraße 1, 88131 Lindau
END:VEVENT
BEGIN:VEVENT
DTSTAMP:20260422T165017
DTSTART;TZID=Europe/Berlin:20260713T170000
DTEND;TZID=Europe/Berlin:20260713T180000
UID:261G343-20260713T170000@VHSLINDAU
SUMMARY:Klassisches Ballett für Jugendliche (Fortgeschrittene) - Fortsetzungskurs (261G343) 
LOCATION:Königssaal im Sünfzen, Maximilianstr. 1, Maximilianstraße 1, 88131 Lindau
END:VEVENT
BEGIN:VEVENT
DTSTAMP:20260422T165017
DTSTART;TZID=Europe/Berlin:20260720T170000
DTEND;TZID=Europe/Berlin:20260720T180000
UID:261G343-20260720T170000@VHSLINDAU
SUMMARY:Klassisches Ballett für Jugendliche (Fortgeschrittene) - Fortsetzungskurs (261G343) 
LOCATION:Königssaal im Sünfzen, Maximilianstr. 1, Maximilianstraße 1, 88131 Lindau
END:VEVENT
END:VCALENDAR