BEGIN:VCALENDAR
VERSION:2.0
PRODID:https://www.kufer.de/kuferweb / DE
METHOD:PUBLISH
CALSCALE:GREGORIAN
X-WR-TIMEZONE:Europe/Berlin
BEGIN:VTIMEZONE
TZID:Europe/Berlin
X-LIC-LOCATION:Europe/Berlin
BEGIN:DAYLIGHT
TZOFFSETFROM:+0100
TZOFFSETTO:+0200
TZNAME:CEST
DTSTART:19700329T020000
RRULE:FREQ=YEARLY;INTERVAL=1;BYDAY=-1SU;BYMONTH=3
END:DAYLIGHT
BEGIN:STANDARD
TZOFFSETFROM:+0200
TZOFFSETTO:+0100
TZNAME:CET
DTSTART:19701025T030000
RRULE:FREQ=YEARLY;INTERVAL=1;BYDAY=-1SU;BYMONTH=10
END:STANDARD
END:VTIMEZONE
BEGIN:VEVENT
DTSTAMP:20260422T184709
DTSTART;TZID=Europe/Berlin:20260226T160000
DTEND;TZID=Europe/Berlin:20260226T170000
UID:261G342-20260226T160000@VHSLINDAU
SUMMARY:Klassisches Ballett für Kinder (10-12 Jahre) - Fortsetzungskurs (261G342) 
LOCATION:Königssaal im Sünfzen, Maximilianstr. 1, Maximilianstraße 1, 88131 Lindau
END:VEVENT
BEGIN:VEVENT
DTSTAMP:20260422T184709
DTSTART;TZID=Europe/Berlin:20260305T160000
DTEND;TZID=Europe/Berlin:20260305T170000
UID:261G342-20260305T160000@VHSLINDAU
SUMMARY:Klassisches Ballett für Kinder (10-12 Jahre) - Fortsetzungskurs (261G342) 
LOCATION:Königssaal im Sünfzen, Maximilianstr. 1, Maximilianstraße 1, 88131 Lindau
END:VEVENT
BEGIN:VEVENT
DTSTAMP:20260422T184709
DTSTART;TZID=Europe/Berlin:20260312T160000
DTEND;TZID=Europe/Berlin:20260312T170000
UID:261G342-20260312T160000@VHSLINDAU
SUMMARY:Klassisches Ballett für Kinder (10-12 Jahre) - Fortsetzungskurs (261G342) 
LOCATION:Königssaal im Sünfzen, Maximilianstr. 1, Maximilianstraße 1, 88131 Lindau
END:VEVENT
BEGIN:VEVENT
DTSTAMP:20260422T184709
DTSTART;TZID=Europe/Berlin:20260319T160000
DTEND;TZID=Europe/Berlin:20260319T170000
UID:261G342-20260319T160000@VHSLINDAU
SUMMARY:Klassisches Ballett für Kinder (10-12 Jahre) - Fortsetzungskurs (261G342) 
LOCATION:Königssaal im Sünfzen, Maximilianstr. 1, Maximilianstraße 1, 88131 Lindau
END:VEVENT
BEGIN:VEVENT
DTSTAMP:20260422T184709
DTSTART;TZID=Europe/Berlin:20260326T160000
DTEND;TZID=Europe/Berlin:20260326T170000
UID:261G342-20260326T160000@VHSLINDAU
SUMMARY:Klassisches Ballett für Kinder (10-12 Jahre) - Fortsetzungskurs (261G342) 
LOCATION:Königssaal im Sünfzen, Maximilianstr. 1, Maximilianstraße 1, 88131 Lindau
END:VEVENT
BEGIN:VEVENT
DTSTAMP:20260422T184709
DTSTART;TZID=Europe/Berlin:20260416T160000
DTEND;TZID=Europe/Berlin:20260416T170000
UID:261G342-20260416T160000@VHSLINDAU
SUMMARY:Klassisches Ballett für Kinder (10-12 Jahre) - Fortsetzungskurs (261G342) 
LOCATION:Königssaal im Sünfzen, Maximilianstr. 1, Maximilianstraße 1, 88131 Lindau
END:VEVENT
BEGIN:VEVENT
DTSTAMP:20260422T184709
DTSTART;TZID=Europe/Berlin:20260423T160000
DTEND;TZID=Europe/Berlin:20260423T170000
UID:261G342-20260423T160000@VHSLINDAU
SUMMARY:Klassisches Ballett für Kinder (10-12 Jahre) - Fortsetzungskurs (261G342) 
LOCATION:Königssaal im Sünfzen, Maximilianstr. 1, Maximilianstraße 1, 88131 Lindau
END:VEVENT
BEGIN:VEVENT
DTSTAMP:20260422T184709
DTSTART;TZID=Europe/Berlin:20260430T160000
DTEND;TZID=Europe/Berlin:20260430T170000
UID:261G342-20260430T160000@VHSLINDAU
SUMMARY:Klassisches Ballett für Kinder (10-12 Jahre) - Fortsetzungskurs (261G342) 
LOCATION:Königssaal im Sünfzen, Maximilianstr. 1, Maximilianstraße 1, 88131 Lindau
END:VEVENT
BEGIN:VEVENT
DTSTAMP:20260422T184709
DTSTART;TZID=Europe/Berlin:20260521T160000
DTEND;TZID=Europe/Berlin:20260521T170000
UID:261G342-20260521T160000@VHSLINDAU
SUMMARY:Klassisches Ballett für Kinder (10-12 Jahre) - Fortsetzungskurs (261G342) 
LOCATION:Königssaal im Sünfzen, Maximilianstr. 1, Maximilianstraße 1, 88131 Lindau
END:VEVENT
BEGIN:VEVENT
DTSTAMP:20260422T184709
DTSTART;TZID=Europe/Berlin:20260611T160000
DTEND;TZID=Europe/Berlin:20260611T170000
UID:261G342-20260611T160000@VHSLINDAU
SUMMARY:Klassisches Ballett für Kinder (10-12 Jahre) - Fortsetzungskurs (261G342) 
LOCATION:Königssaal im Sünfzen, Maximilianstr. 1, Maximilianstraße 1, 88131 Lindau
END:VEVENT
BEGIN:VEVENT
DTSTAMP:20260422T184709
DTSTART;TZID=Europe/Berlin:20260618T160000
DTEND;TZID=Europe/Berlin:20260618T170000
UID:261G342-20260618T160000@VHSLINDAU
SUMMARY:Klassisches Ballett für Kinder (10-12 Jahre) - Fortsetzungskurs (261G342) 
LOCATION:Königssaal im Sünfzen, Maximilianstr. 1, Maximilianstraße 1, 88131 Lindau
END:VEVENT
BEGIN:VEVENT
DTSTAMP:20260422T184709
DTSTART;TZID=Europe/Berlin:20260625T160000
DTEND;TZID=Europe/Berlin:20260625T170000
UID:261G342-20260625T160000@VHSLINDAU
SUMMARY:Klassisches Ballett für Kinder (10-12 Jahre) - Fortsetzungskurs (261G342) 
LOCATION:Königssaal im Sünfzen, Maximilianstr. 1, Maximilianstraße 1, 88131 Lindau
END:VEVENT
BEGIN:VEVENT
DTSTAMP:20260422T184709
DTSTART;TZID=Europe/Berlin:20260702T160000
DTEND;TZID=Europe/Berlin:20260702T170000
UID:261G342-20260702T160000@VHSLINDAU
SUMMARY:Klassisches Ballett für Kinder (10-12 Jahre) - Fortsetzungskurs (261G342) 
LOCATION:Königssaal im Sünfzen, Maximilianstr. 1, Maximilianstraße 1, 88131 Lindau
END:VEVENT
BEGIN:VEVENT
DTSTAMP:20260422T184709
DTSTART;TZID=Europe/Berlin:20260709T160000
DTEND;TZID=Europe/Berlin:20260709T170000
UID:261G342-20260709T160000@VHSLINDAU
SUMMARY:Klassisches Ballett für Kinder (10-12 Jahre) - Fortsetzungskurs (261G342) 
LOCATION:Königssaal im Sünfzen, Maximilianstr. 1, Maximilianstraße 1, 88131 Lindau
END:VEVENT
BEGIN:VEVENT
DTSTAMP:20260422T184709
DTSTART;TZID=Europe/Berlin:20260716T160000
DTEND;TZID=Europe/Berlin:20260716T170000
UID:261G342-20260716T160000@VHSLINDAU
SUMMARY:Klassisches Ballett für Kinder (10-12 Jahre) - Fortsetzungskurs (261G342) 
LOCATION:Königssaal im Sünfzen, Maximilianstr. 1, Maximilianstraße 1, 88131 Lindau
END:VEVENT
BEGIN:VEVENT
DTSTAMP:20260422T184709
DTSTART;TZID=Europe/Berlin:20260723T160000
DTEND;TZID=Europe/Berlin:20260723T170000
UID:261G342-20260723T160000@VHSLINDAU
SUMMARY:Klassisches Ballett für Kinder (10-12 Jahre) - Fortsetzungskurs (261G342) 
LOCATION:Königssaal im Sünfzen, Maximilianstr. 1, Maximilianstraße 1, 88131 Lindau
END:VEVENT
END:VCALENDAR