BEGIN:VCALENDAR
VERSION:2.0
PRODID:https://www.kufer.de/kuferweb / DE
METHOD:PUBLISH
CALSCALE:GREGORIAN
X-WR-TIMEZONE:Europe/Berlin
BEGIN:VTIMEZONE
TZID:Europe/Berlin
X-LIC-LOCATION:Europe/Berlin
BEGIN:DAYLIGHT
TZOFFSETFROM:+0100
TZOFFSETTO:+0200
TZNAME:CEST
DTSTART:19700329T020000
RRULE:FREQ=YEARLY;INTERVAL=1;BYDAY=-1SU;BYMONTH=3
END:DAYLIGHT
BEGIN:STANDARD
TZOFFSETFROM:+0200
TZOFFSETTO:+0100
TZNAME:CET
DTSTART:19701025T030000
RRULE:FREQ=YEARLY;INTERVAL=1;BYDAY=-1SU;BYMONTH=10
END:STANDARD
END:VTIMEZONE
BEGIN:VEVENT
DTSTAMP:20260422T164258
DTSTART;TZID=Europe/Berlin:20260301T143000
DTEND;TZID=Europe/Berlin:20260301T153000
UID:261G323-20260301T143000@VHSLINDAU
SUMMARY:Tänze aus der Türkei: vom Bosporus zum Euphrat - Tanzen für Jugendliche (11-17 Jahre) (261G323) 
LOCATION:vhs-Gebäude, Uferweg 7, Gymnastikraum, Uferweg 7, 88131 Lindau
END:VEVENT
BEGIN:VEVENT
DTSTAMP:20260422T164258
DTSTART;TZID=Europe/Berlin:20260308T143000
DTEND;TZID=Europe/Berlin:20260308T153000
UID:261G323-20260308T143000@VHSLINDAU
SUMMARY:Tänze aus der Türkei: vom Bosporus zum Euphrat - Tanzen für Jugendliche (11-17 Jahre) (261G323) 
LOCATION:vhs-Gebäude, Uferweg 7, Gymnastikraum, Uferweg 7, 88131 Lindau
END:VEVENT
BEGIN:VEVENT
DTSTAMP:20260422T164258
DTSTART;TZID=Europe/Berlin:20260315T143000
DTEND;TZID=Europe/Berlin:20260315T153000
UID:261G323-20260315T143000@VHSLINDAU
SUMMARY:Tänze aus der Türkei: vom Bosporus zum Euphrat - Tanzen für Jugendliche (11-17 Jahre) (261G323) 
LOCATION:vhs-Gebäude, Uferweg 7, Gymnastikraum, Uferweg 7, 88131 Lindau
END:VEVENT
BEGIN:VEVENT
DTSTAMP:20260422T164258
DTSTART;TZID=Europe/Berlin:20260322T143000
DTEND;TZID=Europe/Berlin:20260322T153000
UID:261G323-20260322T143000@VHSLINDAU
SUMMARY:Tänze aus der Türkei: vom Bosporus zum Euphrat - Tanzen für Jugendliche (11-17 Jahre) (261G323) 
LOCATION:vhs-Gebäude, Uferweg 7, Gymnastikraum, Uferweg 7, 88131 Lindau
END:VEVENT
BEGIN:VEVENT
DTSTAMP:20260422T164258
DTSTART;TZID=Europe/Berlin:20260329T143000
DTEND;TZID=Europe/Berlin:20260329T153000
UID:261G323-20260329T143000@VHSLINDAU
SUMMARY:Tänze aus der Türkei: vom Bosporus zum Euphrat - Tanzen für Jugendliche (11-17 Jahre) (261G323) 
LOCATION:vhs-Gebäude, Uferweg 7, Gymnastikraum, Uferweg 7, 88131 Lindau
END:VEVENT
BEGIN:VEVENT
DTSTAMP:20260422T164258
DTSTART;TZID=Europe/Berlin:20260412T143000
DTEND;TZID=Europe/Berlin:20260412T153000
UID:261G323-20260412T143000@VHSLINDAU
SUMMARY:Tänze aus der Türkei: vom Bosporus zum Euphrat - Tanzen für Jugendliche (11-17 Jahre) (261G323) 
LOCATION:vhs-Gebäude, Uferweg 7, Gymnastikraum, Uferweg 7, 88131 Lindau
END:VEVENT
BEGIN:VEVENT
DTSTAMP:20260422T164258
DTSTART;TZID=Europe/Berlin:20260419T143000
DTEND;TZID=Europe/Berlin:20260419T153000
UID:261G323-20260419T143000@VHSLINDAU
SUMMARY:Tänze aus der Türkei: vom Bosporus zum Euphrat - Tanzen für Jugendliche (11-17 Jahre) (261G323) 
LOCATION:vhs-Gebäude, Uferweg 7, Gymnastikraum, Uferweg 7, 88131 Lindau
END:VEVENT
BEGIN:VEVENT
DTSTAMP:20260422T164258
DTSTART;TZID=Europe/Berlin:20260426T143000
DTEND;TZID=Europe/Berlin:20260426T153000
UID:261G323-20260426T143000@VHSLINDAU
SUMMARY:Tänze aus der Türkei: vom Bosporus zum Euphrat - Tanzen für Jugendliche (11-17 Jahre) (261G323) 
LOCATION:vhs-Gebäude, Uferweg 7, Gymnastikraum, Uferweg 7, 88131 Lindau
END:VEVENT
BEGIN:VEVENT
DTSTAMP:20260422T164258
DTSTART;TZID=Europe/Berlin:20260503T143000
DTEND;TZID=Europe/Berlin:20260503T153000
UID:261G323-20260503T143000@VHSLINDAU
SUMMARY:Tänze aus der Türkei: vom Bosporus zum Euphrat - Tanzen für Jugendliche (11-17 Jahre) (261G323) 
LOCATION:vhs-Gebäude, Uferweg 7, Gymnastikraum, Uferweg 7, 88131 Lindau
END:VEVENT
BEGIN:VEVENT
DTSTAMP:20260422T164258
DTSTART;TZID=Europe/Berlin:20260510T143000
DTEND;TZID=Europe/Berlin:20260510T153000
UID:261G323-20260510T143000@VHSLINDAU
SUMMARY:Tänze aus der Türkei: vom Bosporus zum Euphrat - Tanzen für Jugendliche (11-17 Jahre) (261G323) 
LOCATION:vhs-Gebäude, Uferweg 7, Gymnastikraum, Uferweg 7, 88131 Lindau
END:VEVENT
END:VCALENDAR