BEGIN:VCALENDAR
VERSION:2.0
PRODID:https://www.kufer.de/kuferweb / DE
METHOD:PUBLISH
CALSCALE:GREGORIAN
X-WR-TIMEZONE:Europe/Berlin
BEGIN:VTIMEZONE
TZID:Europe/Berlin
X-LIC-LOCATION:Europe/Berlin
BEGIN:DAYLIGHT
TZOFFSETFROM:+0100
TZOFFSETTO:+0200
TZNAME:CEST
DTSTART:19700329T020000
RRULE:FREQ=YEARLY;INTERVAL=1;BYDAY=-1SU;BYMONTH=3
END:DAYLIGHT
BEGIN:STANDARD
TZOFFSETFROM:+0200
TZOFFSETTO:+0100
TZNAME:CET
DTSTART:19701025T030000
RRULE:FREQ=YEARLY;INTERVAL=1;BYDAY=-1SU;BYMONTH=10
END:STANDARD
END:VTIMEZONE
BEGIN:VEVENT
DTSTAMP:20260422T163153
DTSTART;TZID=Europe/Berlin:20260608T081500
DTEND;TZID=Europe/Berlin:20260608T094500
UID:261G311-20260608T081500@VHSLINDAU
SUMMARY:Internationale Folklore für alle, die gerne tanzen - Mixer, Square und Kontras (261G311) 
LOCATION:Turnhalle Hoyren, Hoyerbergstr. 16, Hoyerbergstr. 16, 88131 Lindau
END:VEVENT
BEGIN:VEVENT
DTSTAMP:20260422T163153
DTSTART;TZID=Europe/Berlin:20260615T081500
DTEND;TZID=Europe/Berlin:20260615T094500
UID:261G311-20260615T081500@VHSLINDAU
SUMMARY:Internationale Folklore für alle, die gerne tanzen - Mixer, Square und Kontras (261G311) 
LOCATION:Turnhalle Hoyren, Hoyerbergstr. 16, Hoyerbergstr. 16, 88131 Lindau
END:VEVENT
BEGIN:VEVENT
DTSTAMP:20260422T163153
DTSTART;TZID=Europe/Berlin:20260622T081500
DTEND;TZID=Europe/Berlin:20260622T094500
UID:261G311-20260622T081500@VHSLINDAU
SUMMARY:Internationale Folklore für alle, die gerne tanzen - Mixer, Square und Kontras (261G311) 
LOCATION:Turnhalle Hoyren, Hoyerbergstr. 16, Hoyerbergstr. 16, 88131 Lindau
END:VEVENT
BEGIN:VEVENT
DTSTAMP:20260422T163153
DTSTART;TZID=Europe/Berlin:20260629T081500
DTEND;TZID=Europe/Berlin:20260629T094500
UID:261G311-20260629T081500@VHSLINDAU
SUMMARY:Internationale Folklore für alle, die gerne tanzen - Mixer, Square und Kontras (261G311) 
LOCATION:Turnhalle Hoyren, Hoyerbergstr. 16, Hoyerbergstr. 16, 88131 Lindau
END:VEVENT
BEGIN:VEVENT
DTSTAMP:20260422T163153
DTSTART;TZID=Europe/Berlin:20260706T081500
DTEND;TZID=Europe/Berlin:20260706T094500
UID:261G311-20260706T081500@VHSLINDAU
SUMMARY:Internationale Folklore für alle, die gerne tanzen - Mixer, Square und Kontras (261G311) 
LOCATION:Turnhalle Hoyren, Hoyerbergstr. 16, Hoyerbergstr. 16, 88131 Lindau
END:VEVENT
END:VCALENDAR