BEGIN:VCALENDAR
VERSION:2.0
PRODID:https://www.kufer.de/kuferweb / DE
METHOD:PUBLISH
CALSCALE:GREGORIAN
X-WR-TIMEZONE:Europe/Berlin
BEGIN:VTIMEZONE
TZID:Europe/Berlin
X-LIC-LOCATION:Europe/Berlin
BEGIN:DAYLIGHT
TZOFFSETFROM:+0100
TZOFFSETTO:+0200
TZNAME:CEST
DTSTART:19700329T020000
RRULE:FREQ=YEARLY;INTERVAL=1;BYDAY=-1SU;BYMONTH=3
END:DAYLIGHT
BEGIN:STANDARD
TZOFFSETFROM:+0200
TZOFFSETTO:+0100
TZNAME:CET
DTSTART:19701025T030000
RRULE:FREQ=YEARLY;INTERVAL=1;BYDAY=-1SU;BYMONTH=10
END:STANDARD
END:VTIMEZONE
BEGIN:VEVENT
DTSTAMP:20260422T182425
DTSTART;TZID=Europe/Berlin:20260325T101500
DTEND;TZID=Europe/Berlin:20260325T111500
UID:261G163-20260325T101500@VHSLINDAU
SUMMARY:Ganzkörperkräftigung und Mobilisation - Zusatzkurs (261G163) 
LOCATION:Rathaus Reutin, Köchlinstr. 46, Gymnastikraum, Köchlinstr. 46, 88131 Lindau
END:VEVENT
BEGIN:VEVENT
DTSTAMP:20260422T182425
DTSTART;TZID=Europe/Berlin:20260415T101500
DTEND;TZID=Europe/Berlin:20260415T111500
UID:261G163-20260415T101500@VHSLINDAU
SUMMARY:Ganzkörperkräftigung und Mobilisation - Zusatzkurs (261G163) 
LOCATION:Rathaus Reutin, Köchlinstr. 46, Gymnastikraum, Köchlinstr. 46, 88131 Lindau
END:VEVENT
BEGIN:VEVENT
DTSTAMP:20260422T182425
DTSTART;TZID=Europe/Berlin:20260422T101500
DTEND;TZID=Europe/Berlin:20260422T111500
UID:261G163-20260422T101500@VHSLINDAU
SUMMARY:Ganzkörperkräftigung und Mobilisation - Zusatzkurs (261G163) 
LOCATION:Rathaus Reutin, Köchlinstr. 46, Gymnastikraum, Köchlinstr. 46, 88131 Lindau
END:VEVENT
BEGIN:VEVENT
DTSTAMP:20260422T182425
DTSTART;TZID=Europe/Berlin:20260506T101500
DTEND;TZID=Europe/Berlin:20260506T111500
UID:261G163-20260506T101500@VHSLINDAU
SUMMARY:Ganzkörperkräftigung und Mobilisation - Zusatzkurs (261G163) 
LOCATION:Rathaus Reutin, Köchlinstr. 46, Gymnastikraum, Köchlinstr. 46, 88131 Lindau
END:VEVENT
BEGIN:VEVENT
DTSTAMP:20260422T182425
DTSTART;TZID=Europe/Berlin:20260513T101500
DTEND;TZID=Europe/Berlin:20260513T111500
UID:261G163-20260513T101500@VHSLINDAU
DESCRIPTION:Ersatztermin für 29.04.26 ST
SUMMARY:Ganzkörperkräftigung und Mobilisation - Zusatzkurs (261G163) 
LOCATION:Rathaus Reutin, Köchlinstr. 46, Gymnastikraum, Köchlinstr. 46, 88131 Lindau
END:VEVENT
END:VCALENDAR