BEGIN:VCALENDAR
VERSION:2.0
PRODID:https://www.kufer.de/kuferweb / DE
METHOD:PUBLISH
CALSCALE:GREGORIAN
X-WR-TIMEZONE:Europe/Berlin
BEGIN:VTIMEZONE
TZID:Europe/Berlin
X-LIC-LOCATION:Europe/Berlin
BEGIN:DAYLIGHT
TZOFFSETFROM:+0100
TZOFFSETTO:+0200
TZNAME:CEST
DTSTART:19700329T020000
RRULE:FREQ=YEARLY;INTERVAL=1;BYDAY=-1SU;BYMONTH=3
END:DAYLIGHT
BEGIN:STANDARD
TZOFFSETFROM:+0200
TZOFFSETTO:+0100
TZNAME:CET
DTSTART:19701025T030000
RRULE:FREQ=YEARLY;INTERVAL=1;BYDAY=-1SU;BYMONTH=10
END:STANDARD
END:VTIMEZONE
BEGIN:VEVENT
DTSTAMP:20260422T151913
DTSTART;TZID=Europe/Berlin:20260319T093000
DTEND;TZID=Europe/Berlin:20260319T103000
UID:261G156-20260319T093000@VHSLINDAU
SUMMARY:Aktiv und beweglich 60 + (261G156) 
LOCATION:Rathaus Reutin, Köchlinstr. 46, Gymnastikraum, Köchlinstr. 46, 88131 Lindau
END:VEVENT
BEGIN:VEVENT
DTSTAMP:20260422T151913
DTSTART;TZID=Europe/Berlin:20260326T093000
DTEND;TZID=Europe/Berlin:20260326T103000
UID:261G156-20260326T093000@VHSLINDAU
SUMMARY:Aktiv und beweglich 60 + (261G156) 
LOCATION:Rathaus Reutin, Köchlinstr. 46, Gymnastikraum, Köchlinstr. 46, 88131 Lindau
END:VEVENT
BEGIN:VEVENT
DTSTAMP:20260422T151913
DTSTART;TZID=Europe/Berlin:20260416T093000
DTEND;TZID=Europe/Berlin:20260416T103000
UID:261G156-20260416T093000@VHSLINDAU
SUMMARY:Aktiv und beweglich 60 + (261G156) 
LOCATION:Rathaus Reutin, Köchlinstr. 46, Gymnastikraum, Köchlinstr. 46, 88131 Lindau
END:VEVENT
BEGIN:VEVENT
DTSTAMP:20260422T151913
DTSTART;TZID=Europe/Berlin:20260423T093000
DTEND;TZID=Europe/Berlin:20260423T103000
UID:261G156-20260423T093000@VHSLINDAU
SUMMARY:Aktiv und beweglich 60 + (261G156) 
LOCATION:Rathaus Reutin, Köchlinstr. 46, Gymnastikraum, Köchlinstr. 46, 88131 Lindau
END:VEVENT
BEGIN:VEVENT
DTSTAMP:20260422T151913
DTSTART;TZID=Europe/Berlin:20260430T093000
DTEND;TZID=Europe/Berlin:20260430T103000
UID:261G156-20260430T093000@VHSLINDAU
SUMMARY:Aktiv und beweglich 60 + (261G156) 
LOCATION:Rathaus Reutin, Köchlinstr. 46, Gymnastikraum, Köchlinstr. 46, 88131 Lindau
END:VEVENT
BEGIN:VEVENT
DTSTAMP:20260422T151913
DTSTART;TZID=Europe/Berlin:20260507T093000
DTEND;TZID=Europe/Berlin:20260507T103000
UID:261G156-20260507T093000@VHSLINDAU
SUMMARY:Aktiv und beweglich 60 + (261G156) 
LOCATION:Rathaus Reutin, Köchlinstr. 46, Gymnastikraum, Köchlinstr. 46, 88131 Lindau
END:VEVENT
BEGIN:VEVENT
DTSTAMP:20260422T151913
DTSTART;TZID=Europe/Berlin:20260521T093000
DTEND;TZID=Europe/Berlin:20260521T103000
UID:261G156-20260521T093000@VHSLINDAU
SUMMARY:Aktiv und beweglich 60 + (261G156) 
LOCATION:Rathaus Reutin, Köchlinstr. 46, Gymnastikraum, Köchlinstr. 46, 88131 Lindau
END:VEVENT
BEGIN:VEVENT
DTSTAMP:20260422T151913
DTSTART;TZID=Europe/Berlin:20260618T093000
DTEND;TZID=Europe/Berlin:20260618T103000
UID:261G156-20260618T093000@VHSLINDAU
DESCRIPTION:Ersatz für 26.02.2026/KH
SUMMARY:Aktiv und beweglich 60 + (261G156) 
LOCATION:Rathaus Reutin, Köchlinstr. 46, Gymnastikraum, Köchlinstr. 46, 88131 Lindau
END:VEVENT
BEGIN:VEVENT
DTSTAMP:20260422T151913
DTSTART;TZID=Europe/Berlin:20260625T093000
DTEND;TZID=Europe/Berlin:20260625T103000
UID:261G156-20260625T093000@VHSLINDAU
DESCRIPTION:Ersatz für 05.03.2026/KH
SUMMARY:Aktiv und beweglich 60 + (261G156) 
LOCATION:Rathaus Reutin, Köchlinstr. 46, Gymnastikraum, Köchlinstr. 46, 88131 Lindau
END:VEVENT
END:VCALENDAR