BEGIN:VCALENDAR
VERSION:2.0
PRODID:https://www.kufer.de/kuferweb / DE
METHOD:PUBLISH
CALSCALE:GREGORIAN
X-WR-TIMEZONE:Europe/Berlin
BEGIN:VTIMEZONE
TZID:Europe/Berlin
X-LIC-LOCATION:Europe/Berlin
BEGIN:DAYLIGHT
TZOFFSETFROM:+0100
TZOFFSETTO:+0200
TZNAME:CEST
DTSTART:19700329T020000
RRULE:FREQ=YEARLY;INTERVAL=1;BYDAY=-1SU;BYMONTH=3
END:DAYLIGHT
BEGIN:STANDARD
TZOFFSETFROM:+0200
TZOFFSETTO:+0100
TZNAME:CET
DTSTART:19701025T030000
RRULE:FREQ=YEARLY;INTERVAL=1;BYDAY=-1SU;BYMONTH=10
END:STANDARD
END:VTIMEZONE
BEGIN:VEVENT
DTSTAMP:20260422T150627
DTSTART;TZID=Europe/Berlin:20260226T174500
DTEND;TZID=Europe/Berlin:20260226T184500
UID:261G083-20260226T174500@VHSLINDAU
SUMMARY:Qigong Yangsheng - Die 8 Brokate (261G083) 
LOCATION:Rathaus Reutin, Köchlinstr. 46, Gymnastikraum, Köchlinstr. 46, 88131 Lindau
END:VEVENT
BEGIN:VEVENT
DTSTAMP:20260422T150627
DTSTART;TZID=Europe/Berlin:20260305T174500
DTEND;TZID=Europe/Berlin:20260305T184500
UID:261G083-20260305T174500@VHSLINDAU
SUMMARY:Qigong Yangsheng - Die 8 Brokate (261G083) 
LOCATION:Rathaus Reutin, Köchlinstr. 46, Gymnastikraum, Köchlinstr. 46, 88131 Lindau
END:VEVENT
BEGIN:VEVENT
DTSTAMP:20260422T150627
DTSTART;TZID=Europe/Berlin:20260312T174500
DTEND;TZID=Europe/Berlin:20260312T184500
UID:261G083-20260312T174500@VHSLINDAU
SUMMARY:Qigong Yangsheng - Die 8 Brokate (261G083) 
LOCATION:Rathaus Reutin, Köchlinstr. 46, Gymnastikraum, Köchlinstr. 46, 88131 Lindau
END:VEVENT
BEGIN:VEVENT
DTSTAMP:20260422T150627
DTSTART;TZID=Europe/Berlin:20260319T174500
DTEND;TZID=Europe/Berlin:20260319T184500
UID:261G083-20260319T174500@VHSLINDAU
SUMMARY:Qigong Yangsheng - Die 8 Brokate (261G083) 
LOCATION:Rathaus Reutin, Köchlinstr. 46, Gymnastikraum, Köchlinstr. 46, 88131 Lindau
END:VEVENT
BEGIN:VEVENT
DTSTAMP:20260422T150627
DTSTART;TZID=Europe/Berlin:20260326T174500
DTEND;TZID=Europe/Berlin:20260326T184500
UID:261G083-20260326T174500@VHSLINDAU
SUMMARY:Qigong Yangsheng - Die 8 Brokate (261G083) 
LOCATION:Rathaus Reutin, Köchlinstr. 46, Gymnastikraum, Köchlinstr. 46, 88131 Lindau
END:VEVENT
BEGIN:VEVENT
DTSTAMP:20260422T150627
DTSTART;TZID=Europe/Berlin:20260423T174500
DTEND;TZID=Europe/Berlin:20260423T184500
UID:261G083-20260423T174500@VHSLINDAU
SUMMARY:Qigong Yangsheng - Die 8 Brokate (261G083) 
LOCATION:Rathaus Reutin, Köchlinstr. 46, Gymnastikraum, Köchlinstr. 46, 88131 Lindau
END:VEVENT
BEGIN:VEVENT
DTSTAMP:20260422T150627
DTSTART;TZID=Europe/Berlin:20260430T174500
DTEND;TZID=Europe/Berlin:20260430T184500
UID:261G083-20260430T174500@VHSLINDAU
SUMMARY:Qigong Yangsheng - Die 8 Brokate (261G083) 
LOCATION:Rathaus Reutin, Köchlinstr. 46, Gymnastikraum, Köchlinstr. 46, 88131 Lindau
END:VEVENT
BEGIN:VEVENT
DTSTAMP:20260422T150627
DTSTART;TZID=Europe/Berlin:20260507T174500
DTEND;TZID=Europe/Berlin:20260507T184500
UID:261G083-20260507T174500@VHSLINDAU
SUMMARY:Qigong Yangsheng - Die 8 Brokate (261G083) 
LOCATION:Rathaus Reutin, Köchlinstr. 46, Gymnastikraum, Köchlinstr. 46, 88131 Lindau
END:VEVENT
BEGIN:VEVENT
DTSTAMP:20260422T150627
DTSTART;TZID=Europe/Berlin:20260521T174500
DTEND;TZID=Europe/Berlin:20260521T184500
UID:261G083-20260521T174500@VHSLINDAU
SUMMARY:Qigong Yangsheng - Die 8 Brokate (261G083) 
LOCATION:Rathaus Reutin, Köchlinstr. 46, Gymnastikraum, Köchlinstr. 46, 88131 Lindau
END:VEVENT
END:VCALENDAR