BEGIN:VCALENDAR
VERSION:2.0
PRODID:https://www.kufer.de/kuferweb / DE
METHOD:PUBLISH
CALSCALE:GREGORIAN
X-WR-TIMEZONE:Europe/Berlin
BEGIN:VTIMEZONE
TZID:Europe/Berlin
X-LIC-LOCATION:Europe/Berlin
BEGIN:DAYLIGHT
TZOFFSETFROM:+0100
TZOFFSETTO:+0200
TZNAME:CEST
DTSTART:19700329T020000
RRULE:FREQ=YEARLY;INTERVAL=1;BYDAY=-1SU;BYMONTH=3
END:DAYLIGHT
BEGIN:STANDARD
TZOFFSETFROM:+0200
TZOFFSETTO:+0100
TZNAME:CET
DTSTART:19701025T030000
RRULE:FREQ=YEARLY;INTERVAL=1;BYDAY=-1SU;BYMONTH=10
END:STANDARD
END:VTIMEZONE
BEGIN:VEVENT
DTSTAMP:20260422T181431
DTSTART;TZID=Europe/Berlin:20260223T170000
DTEND;TZID=Europe/Berlin:20260223T175500
UID:261G018-20260223T170000@VHSLINDAU
SUMMARY:Pilates für Alle (261G018) 
LOCATION:Sporthalle Aeschach, Reutiner Str. 4,  Mehrzweckraum, Reutiner Str. 4, 88131 Lindau
END:VEVENT
BEGIN:VEVENT
DTSTAMP:20260422T181431
DTSTART;TZID=Europe/Berlin:20260302T170000
DTEND;TZID=Europe/Berlin:20260302T175500
UID:261G018-20260302T170000@VHSLINDAU
SUMMARY:Pilates für Alle (261G018) 
LOCATION:Sporthalle Aeschach, Reutiner Str. 4,  Mehrzweckraum, Reutiner Str. 4, 88131 Lindau
END:VEVENT
BEGIN:VEVENT
DTSTAMP:20260422T181431
DTSTART;TZID=Europe/Berlin:20260309T170000
DTEND;TZID=Europe/Berlin:20260309T175500
UID:261G018-20260309T170000@VHSLINDAU
SUMMARY:Pilates für Alle (261G018) 
LOCATION:Sporthalle Aeschach, Reutiner Str. 4,  Mehrzweckraum, Reutiner Str. 4, 88131 Lindau
END:VEVENT
BEGIN:VEVENT
DTSTAMP:20260422T181431
DTSTART;TZID=Europe/Berlin:20260316T170000
DTEND;TZID=Europe/Berlin:20260316T175500
UID:261G018-20260316T170000@VHSLINDAU
SUMMARY:Pilates für Alle (261G018) 
LOCATION:Sporthalle Aeschach, Reutiner Str. 4,  Mehrzweckraum, Reutiner Str. 4, 88131 Lindau
END:VEVENT
BEGIN:VEVENT
DTSTAMP:20260422T181431
DTSTART;TZID=Europe/Berlin:20260323T170000
DTEND;TZID=Europe/Berlin:20260323T175500
UID:261G018-20260323T170000@VHSLINDAU
SUMMARY:Pilates für Alle (261G018) 
LOCATION:Sporthalle Aeschach, Reutiner Str. 4,  Mehrzweckraum, Reutiner Str. 4, 88131 Lindau
END:VEVENT
BEGIN:VEVENT
DTSTAMP:20260422T181431
DTSTART;TZID=Europe/Berlin:20260413T170000
DTEND;TZID=Europe/Berlin:20260413T175500
UID:261G018-20260413T170000@VHSLINDAU
SUMMARY:Pilates für Alle (261G018) 
LOCATION:Sporthalle Aeschach, Reutiner Str. 4,  Mehrzweckraum, Reutiner Str. 4, 88131 Lindau
END:VEVENT
BEGIN:VEVENT
DTSTAMP:20260422T181431
DTSTART;TZID=Europe/Berlin:20260420T170000
DTEND;TZID=Europe/Berlin:20260420T175500
UID:261G018-20260420T170000@VHSLINDAU
SUMMARY:Pilates für Alle (261G018) 
LOCATION:Sporthalle Aeschach, Reutiner Str. 4,  Mehrzweckraum, Reutiner Str. 4, 88131 Lindau
END:VEVENT
BEGIN:VEVENT
DTSTAMP:20260422T181431
DTSTART;TZID=Europe/Berlin:20260427T170000
DTEND;TZID=Europe/Berlin:20260427T175500
UID:261G018-20260427T170000@VHSLINDAU
SUMMARY:Pilates für Alle (261G018) 
LOCATION:Sporthalle Aeschach, Reutiner Str. 4,  Mehrzweckraum, Reutiner Str. 4, 88131 Lindau
END:VEVENT
BEGIN:VEVENT
DTSTAMP:20260422T181431
DTSTART;TZID=Europe/Berlin:20260504T170000
DTEND;TZID=Europe/Berlin:20260504T175500
UID:261G018-20260504T170000@VHSLINDAU
SUMMARY:Pilates für Alle (261G018) 
LOCATION:Sporthalle Aeschach, Reutiner Str. 4,  Mehrzweckraum, Reutiner Str. 4, 88131 Lindau
END:VEVENT
BEGIN:VEVENT
DTSTAMP:20260422T181431
DTSTART;TZID=Europe/Berlin:20260511T170000
DTEND;TZID=Europe/Berlin:20260511T175500
UID:261G018-20260511T170000@VHSLINDAU
SUMMARY:Pilates für Alle (261G018) 
LOCATION:Sporthalle Aeschach, Reutiner Str. 4,  Mehrzweckraum, Reutiner Str. 4, 88131 Lindau
END:VEVENT
BEGIN:VEVENT
DTSTAMP:20260422T181431
DTSTART;TZID=Europe/Berlin:20260518T170000
DTEND;TZID=Europe/Berlin:20260518T175500
UID:261G018-20260518T170000@VHSLINDAU
SUMMARY:Pilates für Alle (261G018) 
LOCATION:Sporthalle Aeschach, Reutiner Str. 4,  Mehrzweckraum, Reutiner Str. 4, 88131 Lindau
END:VEVENT
BEGIN:VEVENT
DTSTAMP:20260422T181431
DTSTART;TZID=Europe/Berlin:20260608T170000
DTEND;TZID=Europe/Berlin:20260608T175500
UID:261G018-20260608T170000@VHSLINDAU
SUMMARY:Pilates für Alle (261G018) 
LOCATION:Sporthalle Aeschach, Reutiner Str. 4,  Mehrzweckraum, Reutiner Str. 4, 88131 Lindau
END:VEVENT
BEGIN:VEVENT
DTSTAMP:20260422T181431
DTSTART;TZID=Europe/Berlin:20260615T170000
DTEND;TZID=Europe/Berlin:20260615T175500
UID:261G018-20260615T170000@VHSLINDAU
SUMMARY:Pilates für Alle (261G018) 
LOCATION:Sporthalle Aeschach, Reutiner Str. 4,  Mehrzweckraum, Reutiner Str. 4, 88131 Lindau
END:VEVENT
BEGIN:VEVENT
DTSTAMP:20260422T181431
DTSTART;TZID=Europe/Berlin:20260622T170000
DTEND;TZID=Europe/Berlin:20260622T175500
UID:261G018-20260622T170000@VHSLINDAU
SUMMARY:Pilates für Alle (261G018) 
LOCATION:Sporthalle Aeschach, Reutiner Str. 4,  Mehrzweckraum, Reutiner Str. 4, 88131 Lindau
END:VEVENT
BEGIN:VEVENT
DTSTAMP:20260422T181431
DTSTART;TZID=Europe/Berlin:20260629T170000
DTEND;TZID=Europe/Berlin:20260629T175500
UID:261G018-20260629T170000@VHSLINDAU
SUMMARY:Pilates für Alle (261G018) 
LOCATION:Sporthalle Aeschach, Reutiner Str. 4,  Mehrzweckraum, Reutiner Str. 4, 88131 Lindau
END:VEVENT
END:VCALENDAR