BEGIN:VCALENDAR
VERSION:2.0
PRODID:https://www.kufer.de/kuferweb / DE
METHOD:PUBLISH
CALSCALE:GREGORIAN
X-WR-TIMEZONE:Europe/Berlin
BEGIN:VTIMEZONE
TZID:Europe/Berlin
X-LIC-LOCATION:Europe/Berlin
BEGIN:DAYLIGHT
TZOFFSETFROM:+0100
TZOFFSETTO:+0200
TZNAME:CEST
DTSTART:19700329T020000
RRULE:FREQ=YEARLY;INTERVAL=1;BYDAY=-1SU;BYMONTH=3
END:DAYLIGHT
BEGIN:STANDARD
TZOFFSETFROM:+0200
TZOFFSETTO:+0100
TZNAME:CET
DTSTART:19701025T030000
RRULE:FREQ=YEARLY;INTERVAL=1;BYDAY=-1SU;BYMONTH=10
END:STANDARD
END:VTIMEZONE
BEGIN:VEVENT
DTSTAMP:20260422T165059
DTSTART;TZID=Europe/Berlin:20260226T190000
DTEND;TZID=Europe/Berlin:20260226T195500
UID:261G017-20260226T190000@VHSLINDAU
SUMMARY:Pilates für Alle (261G017) 
LOCATION:Sporthalle Aeschach, Reutiner Str. 4,  Mehrzweckraum, Reutiner Str. 4, 88131 Lindau
END:VEVENT
BEGIN:VEVENT
DTSTAMP:20260422T165059
DTSTART;TZID=Europe/Berlin:20260305T190000
DTEND;TZID=Europe/Berlin:20260305T195500
UID:261G017-20260305T190000@VHSLINDAU
SUMMARY:Pilates für Alle (261G017) 
LOCATION:Sporthalle Aeschach, Reutiner Str. 4,  Mehrzweckraum, Reutiner Str. 4, 88131 Lindau
END:VEVENT
BEGIN:VEVENT
DTSTAMP:20260422T165059
DTSTART;TZID=Europe/Berlin:20260312T190000
DTEND;TZID=Europe/Berlin:20260312T195500
UID:261G017-20260312T190000@VHSLINDAU
SUMMARY:Pilates für Alle (261G017) 
LOCATION:Sporthalle Aeschach, Reutiner Str. 4,  Mehrzweckraum, Reutiner Str. 4, 88131 Lindau
END:VEVENT
BEGIN:VEVENT
DTSTAMP:20260422T165059
DTSTART;TZID=Europe/Berlin:20260319T190000
DTEND;TZID=Europe/Berlin:20260319T195500
UID:261G017-20260319T190000@VHSLINDAU
SUMMARY:Pilates für Alle (261G017) 
LOCATION:Sporthalle Aeschach, Reutiner Str. 4,  Mehrzweckraum, Reutiner Str. 4, 88131 Lindau
END:VEVENT
BEGIN:VEVENT
DTSTAMP:20260422T165059
DTSTART;TZID=Europe/Berlin:20260416T190000
DTEND;TZID=Europe/Berlin:20260416T195500
UID:261G017-20260416T190000@VHSLINDAU
SUMMARY:Pilates für Alle (261G017) 
LOCATION:Sporthalle Aeschach, Reutiner Str. 4,  Mehrzweckraum, Reutiner Str. 4, 88131 Lindau
END:VEVENT
BEGIN:VEVENT
DTSTAMP:20260422T165059
DTSTART;TZID=Europe/Berlin:20260430T190000
DTEND;TZID=Europe/Berlin:20260430T195500
UID:261G017-20260430T190000@VHSLINDAU
SUMMARY:Pilates für Alle (261G017) 
LOCATION:Sporthalle Aeschach, Reutiner Str. 4,  Mehrzweckraum, Reutiner Str. 4, 88131 Lindau
END:VEVENT
BEGIN:VEVENT
DTSTAMP:20260422T165059
DTSTART;TZID=Europe/Berlin:20260521T190000
DTEND;TZID=Europe/Berlin:20260521T195500
UID:261G017-20260521T190000@VHSLINDAU
SUMMARY:Pilates für Alle (261G017) 
LOCATION:Sporthalle Aeschach, Reutiner Str. 4,  Mehrzweckraum, Reutiner Str. 4, 88131 Lindau
END:VEVENT
BEGIN:VEVENT
DTSTAMP:20260422T165059
DTSTART;TZID=Europe/Berlin:20260611T190000
DTEND;TZID=Europe/Berlin:20260611T195500
UID:261G017-20260611T190000@VHSLINDAU
SUMMARY:Pilates für Alle (261G017) 
LOCATION:Sporthalle Aeschach, Reutiner Str. 4,  Mehrzweckraum, Reutiner Str. 4, 88131 Lindau
END:VEVENT
BEGIN:VEVENT
DTSTAMP:20260422T165059
DTSTART;TZID=Europe/Berlin:20260618T190000
DTEND;TZID=Europe/Berlin:20260618T195500
UID:261G017-20260618T190000@VHSLINDAU
SUMMARY:Pilates für Alle (261G017) 
LOCATION:Sporthalle Aeschach, Reutiner Str. 4,  Mehrzweckraum, Reutiner Str. 4, 88131 Lindau
END:VEVENT
BEGIN:VEVENT
DTSTAMP:20260422T165059
DTSTART;TZID=Europe/Berlin:20260625T190000
DTEND;TZID=Europe/Berlin:20260625T195500
UID:261G017-20260625T190000@VHSLINDAU
SUMMARY:Pilates für Alle (261G017) 
LOCATION:Sporthalle Aeschach, Reutiner Str. 4,  Mehrzweckraum, Reutiner Str. 4, 88131 Lindau
END:VEVENT
BEGIN:VEVENT
DTSTAMP:20260422T165059
DTSTART;TZID=Europe/Berlin:20260702T190000
DTEND;TZID=Europe/Berlin:20260702T195500
UID:261G017-20260702T190000@VHSLINDAU
SUMMARY:Pilates für Alle (261G017) 
LOCATION:Sporthalle Aeschach, Reutiner Str. 4,  Mehrzweckraum, Reutiner Str. 4, 88131 Lindau
END:VEVENT
BEGIN:VEVENT
DTSTAMP:20260422T165059
DTSTART;TZID=Europe/Berlin:20260709T190000
DTEND;TZID=Europe/Berlin:20260709T195500
UID:261G017-20260709T190000@VHSLINDAU
SUMMARY:Pilates für Alle (261G017) 
LOCATION:Sporthalle Aeschach, Reutiner Str. 4,  Mehrzweckraum, Reutiner Str. 4, 88131 Lindau
END:VEVENT
BEGIN:VEVENT
DTSTAMP:20260422T165059
DTSTART;TZID=Europe/Berlin:20260716T190000
DTEND;TZID=Europe/Berlin:20260716T195500
UID:261G017-20260716T190000@VHSLINDAU
DESCRIPTION:Ersatz für 26.03.26/KH
SUMMARY:Pilates für Alle (261G017) 
LOCATION:Sporthalle Aeschach, Reutiner Str. 4,  Mehrzweckraum, Reutiner Str. 4, 88131 Lindau
END:VEVENT
BEGIN:VEVENT
DTSTAMP:20260422T165059
DTSTART;TZID=Europe/Berlin:20260723T190000
DTEND;TZID=Europe/Berlin:20260723T195500
UID:261G017-20260723T190000@VHSLINDAU
DESCRIPTION:Ersatztag für 23.04.26ST
SUMMARY:Pilates für Alle (261G017) 
LOCATION:Sporthalle Aeschach, Reutiner Str. 4,  Mehrzweckraum, Reutiner Str. 4, 88131 Lindau
END:VEVENT
BEGIN:VEVENT
DTSTAMP:20260422T165059
DTSTART;TZID=Europe/Berlin:20260730T190000
DTEND;TZID=Europe/Berlin:20260730T195500
UID:261G017-20260730T190000@VHSLINDAU
DESCRIPTION:Ersatztag für 07.05.2026 ST
SUMMARY:Pilates für Alle (261G017) 
LOCATION:Sporthalle Aeschach, Reutiner Str. 4,  Mehrzweckraum, Reutiner Str. 4, 88131 Lindau
END:VEVENT
END:VCALENDAR