BEGIN:VCALENDAR
VERSION:2.0
PRODID:https://www.kufer.de/kuferweb / DE
METHOD:PUBLISH
CALSCALE:GREGORIAN
X-WR-TIMEZONE:Europe/Berlin
BEGIN:VTIMEZONE
TZID:Europe/Berlin
X-LIC-LOCATION:Europe/Berlin
BEGIN:DAYLIGHT
TZOFFSETFROM:+0100
TZOFFSETTO:+0200
TZNAME:CEST
DTSTART:19700329T020000
RRULE:FREQ=YEARLY;INTERVAL=1;BYDAY=-1SU;BYMONTH=3
END:DAYLIGHT
BEGIN:STANDARD
TZOFFSETFROM:+0200
TZOFFSETTO:+0100
TZNAME:CET
DTSTART:19701025T030000
RRULE:FREQ=YEARLY;INTERVAL=1;BYDAY=-1SU;BYMONTH=10
END:STANDARD
END:VTIMEZONE
BEGIN:VEVENT
DTSTAMP:20260422T142237
DTSTART;TZID=Europe/Berlin:20260414T150000
DTEND;TZID=Europe/Berlin:20260414T171500
UID:261B022-20260414T150000@VHSLINDAU
SUMMARY:Der Computer - Dein Freund und Helfer: Computergrundlagen für Senioren und Anfänger jeder Altersstufe (261B022) 
LOCATION:vhs-Gebäude, Uferweg 7, EDV-Raum, Uferweg 7, 88131 Lindau
END:VEVENT
BEGIN:VEVENT
DTSTAMP:20260422T142237
DTSTART;TZID=Europe/Berlin:20260421T150000
DTEND;TZID=Europe/Berlin:20260421T171500
UID:261B022-20260421T150000@VHSLINDAU
SUMMARY:Der Computer - Dein Freund und Helfer: Computergrundlagen für Senioren und Anfänger jeder Altersstufe (261B022) 
LOCATION:vhs-Gebäude, Uferweg 7, EDV-Raum, Uferweg 7, 88131 Lindau
END:VEVENT
BEGIN:VEVENT
DTSTAMP:20260422T142237
DTSTART;TZID=Europe/Berlin:20260505T150000
DTEND;TZID=Europe/Berlin:20260505T171500
UID:261B022-20260505T150000@VHSLINDAU
SUMMARY:Der Computer - Dein Freund und Helfer: Computergrundlagen für Senioren und Anfänger jeder Altersstufe (261B022) 
LOCATION:vhs-Gebäude, Uferweg 7, EDV-Raum, Uferweg 7, 88131 Lindau
END:VEVENT
BEGIN:VEVENT
DTSTAMP:20260422T142237
DTSTART;TZID=Europe/Berlin:20260512T150000
DTEND;TZID=Europe/Berlin:20260512T171500
UID:261B022-20260512T150000@VHSLINDAU
DESCRIPTION:10.04.26 (*KE):  Ersatztermin für 28.04.2026
SUMMARY:Der Computer - Dein Freund und Helfer: Computergrundlagen für Senioren und Anfänger jeder Altersstufe (261B022) 
LOCATION:vhs-Gebäude, Uferweg 7, EDV-Raum, Uferweg 7, 88131 Lindau
END:VEVENT
END:VCALENDAR